BEGIN:VCALENDAR
VERSION:2.0
PRODID:-//Refo Moabit - ECPv6.15.17.1//NONSGML v1.0//EN
CALSCALE:GREGORIAN
METHOD:PUBLISH
X-WR-CALNAME:Refo Moabit
X-ORIGINAL-URL:https://www.refo-moabit.de
X-WR-CALDESC:Veranstaltungen für Refo Moabit
REFRESH-INTERVAL;VALUE=DURATION:PT1H
X-Robots-Tag:noindex
X-PUBLISHED-TTL:PT1H
BEGIN:VTIMEZONE
TZID:Europe/Berlin
BEGIN:DAYLIGHT
TZOFFSETFROM:+0100
TZOFFSETTO:+0200
TZNAME:CEST
DTSTART:20250330T010000
END:DAYLIGHT
BEGIN:STANDARD
TZOFFSETFROM:+0200
TZOFFSETTO:+0100
TZNAME:CET
DTSTART:20251026T010000
END:STANDARD
BEGIN:DAYLIGHT
TZOFFSETFROM:+0100
TZOFFSETTO:+0200
TZNAME:CEST
DTSTART:20260329T010000
END:DAYLIGHT
BEGIN:STANDARD
TZOFFSETFROM:+0200
TZOFFSETTO:+0100
TZNAME:CET
DTSTART:20261025T010000
END:STANDARD
BEGIN:DAYLIGHT
TZOFFSETFROM:+0100
TZOFFSETTO:+0200
TZNAME:CEST
DTSTART:20270328T010000
END:DAYLIGHT
BEGIN:STANDARD
TZOFFSETFROM:+0200
TZOFFSETTO:+0100
TZNAME:CET
DTSTART:20271031T010000
END:STANDARD
END:VTIMEZONE
BEGIN:VEVENT
DTSTART;TZID=Europe/Berlin:20260701T180000
DTEND;TZID=Europe/Berlin:20260701T190000
DTSTAMP:20260420T144848
CREATED:20250623T160454Z
LAST-MODIFIED:20260324T103625Z
UID:8125-1782928800-1782932400@www.refo-moabit.de
SUMMARY:Kiezdinner
DESCRIPTION:Mittwochs in der Refo: Jede & jeder ist herzlich willkommen. Zeit für Gemeinschaft & Begegnung\, gutes Essen\, auftanken & zur Ruhe kommen. Kunst genießen oder sich über relevante Gesellschafts-\, Lebens- und Glaubensthemen austauschen. \n18 Uhr Kiez-Dinner von Mai bis September auf dem Wiclefplatz (bei Regen im Saal) \nWir stellen Brot\, Butter und Wasser. Du bringst mit\, was du essen magst. Wir teilen und essen gemeinsam. \n19 Uhr Atempause – Meditation nach Ignatius von Loyola \n20 Uhr After 8 – Performance\, Konzert\, Gespräch\, Lesung … Jede Woche gibt es abwechslungsreiches Programm.
URL:https://www.refo-moabit.de/termin/brotzeit-35/
LOCATION:REFO Campus\, Wiclefstr. 32\, Berlin\, 10551
CATEGORIES:Kiezdinner
ATTACH;FMTTYPE=image/jpeg:https://www.refo-moabit.de/wp-content/uploads/tischabendmahl_dieter.k_unsplash.jpg
END:VEVENT
BEGIN:VEVENT
DTSTART;TZID=Europe/Berlin:20260701T190000
DTEND;TZID=Europe/Berlin:20260701T193000
DTSTAMP:20260420T144848
CREATED:20251023T093325Z
LAST-MODIFIED:20260324T094126Z
UID:8450-1782932400-1782934200@www.refo-moabit.de
SUMMARY:Atempause - Meditation
DESCRIPTION:Die Atempause ist ein Tagesrückblick der anderen Art\, der dich zur Ruhe kommen lässt. Die angeleitete Meditation erfolgt nach dem Gebet der liebenden Aufmerksamkeit von Ignatius von Loyola. \n+++ \nSetz dich auf ein Gebetsbänkchen\, leg dich auf den beheizten Holzboden oder kuschel dich in einen Sessel und lass den Stress des Tages hinter dir. \nAußerdem singen wir gelegentlich Taizé-Lieder und feiern Abendmahl.
URL:https://www.refo-moabit.de/termin/meditation-4/
LOCATION:REFO Kirche\, Beusselstraße 35\, Berlin\, 10551\, Deutschland
CATEGORIES:Meditation
ATTACH;FMTTYPE=image/png:https://www.refo-moabit.de/wp-content/uploads/atempause_kapelle_burhard.oelmann.png
END:VEVENT
BEGIN:VEVENT
DTSTART;TZID=Europe/Berlin:20260705T170000
DTEND;TZID=Europe/Berlin:20260705T180000
DTSTAMP:20260420T144848
CREATED:20260123T153056Z
LAST-MODIFIED:20260324T100600Z
UID:8738-1783270800-1783274400@www.refo-moabit.de
SUMMARY:Feier-Gottesdienst
DESCRIPTION:Mit Andy Rauhut.
URL:https://www.refo-moabit.de/termin/gottesdienst-8/
LOCATION:REFO Kirche\, Beusselstraße 35\, Berlin\, 10551\, Deutschland
CATEGORIES:Gottesdienst
ATTACH;FMTTYPE=image/jpeg:https://www.refo-moabit.de/wp-content/uploads/refo-regenbogen.jpg
END:VEVENT
BEGIN:VEVENT
DTSTART;TZID=Europe/Berlin:20260706T201500
DTEND;TZID=Europe/Berlin:20260706T213000
DTSTAMP:20260420T144848
CREATED:20251020T140028Z
LAST-MODIFIED:20260312T105450Z
UID:8403-1783368900-1783373400@www.refo-moabit.de
SUMMARY:Taizé-Singen
DESCRIPTION:Wir wollen zusammen kommen\, um die schönen und meditativen Lieder aus der Taizé Gemeinschaft zu singen. Durch die vielen Wiederholungen der einfachen und stimmungsvollen Lieder eröffnen wir einen transzendenten Raum\, der uns Gott spüren lässt. Kommt zahlreich\, gemeinsam lassen wir die Kirche erklingen.
URL:https://www.refo-moabit.de/termin/taize-singen-4/
LOCATION:REFO Kirche\, Beusselstraße 35\, Berlin\, 10551\, Deutschland
CATEGORIES:Taizé
ATTACH;FMTTYPE=image/jpeg:https://www.refo-moabit.de/wp-content/uploads/kerze_taize_nicolas.brulois_unsplash.jpg
END:VEVENT
BEGIN:VEVENT
DTSTART;TZID=Europe/Berlin:20260708T180000
DTEND;TZID=Europe/Berlin:20260708T190000
DTSTAMP:20260420T144848
CREATED:20250519T100942Z
LAST-MODIFIED:20260324T103652Z
UID:8117-1783533600-1783537200@www.refo-moabit.de
SUMMARY:Kiezdinner
DESCRIPTION:Mittwochs in der Refo: Jede & jeder ist herzlich willkommen. Zeit für Gemeinschaft & Begegnung\, gutes Essen\, auftanken & zur Ruhe kommen. Kunst genießen oder sich über relevante Gesellschafts-\, Lebens- und Glaubensthemen austauschen. \n18 Uhr Kiez-Dinner von Mai bis September auf dem Wiclefplatz (bei Regen im Saal) \nWir stellen Brot\, Butter und Wasser. Du bringst mit\, was du essen magst. Wir teilen und essen gemeinsam. \n19 Uhr Atempause – Meditation nach Ignatius von Loyola \n20 Uhr After 8 – Performance\, Konzert\, Gespräch\, Lesung … Jede Woche gibt es abwechslungsreiches Programm.
URL:https://www.refo-moabit.de/termin/brotzeit-34/
LOCATION:REFO Campus\, Wiclefstr. 32\, Berlin\, 10551
CATEGORIES:Kiezdinner
ATTACH;FMTTYPE=image/jpeg:https://www.refo-moabit.de/wp-content/uploads/tischabendmahl_dieter.k_unsplash.jpg
END:VEVENT
BEGIN:VEVENT
DTSTART;TZID=Europe/Berlin:20260708T190000
DTEND;TZID=Europe/Berlin:20260708T193000
DTSTAMP:20260420T144848
CREATED:20251023T093240Z
LAST-MODIFIED:20260324T094314Z
UID:8448-1783537200-1783539000@www.refo-moabit.de
SUMMARY:Atempause - Meditation
DESCRIPTION:Die Atempause ist ein Tagesrückblick der anderen Art\, der dich zur Ruhe kommen lässt. Die angeleitete Meditation erfolgt nach dem Gebet der liebenden Aufmerksamkeit von Ignatius von Loyola. \n+++ \nSetz dich auf ein Gebetsbänkchen\, leg dich auf den beheizten Holzboden oder kuschel dich in einen Sessel und lass den Stress des Tages hinter dir. \nAußerdem singen wir gelegentlich Taizé-Lieder und feiern Abendmahl.
URL:https://www.refo-moabit.de/termin/meditation-3/
LOCATION:REFO Kirche\, Beusselstraße 35\, Berlin\, 10551\, Deutschland
CATEGORIES:Meditation
ATTACH;FMTTYPE=image/png:https://www.refo-moabit.de/wp-content/uploads/atempause_kapelle_burhard.oelmann.png
END:VEVENT
BEGIN:VEVENT
DTSTART;TZID=Europe/Berlin:20260713T193000
DTEND;TZID=Europe/Berlin:20260713T203000
DTSTAMP:20260420T144848
CREATED:20251020T100243Z
LAST-MODIFIED:20260324T094825Z
UID:8401-1783971000-1783974600@www.refo-moabit.de
SUMMARY:Kontemplation
DESCRIPTION:Sitzen und Beten in der Stille. \nImpuls gefolgt von 2 x 25 Minuten Meditation in der Stille. Austausch. \n„Es gibt aber auch eine Anbetung mit dem Sein: einfach für Gott da sein. Diese ist wegen ihrer Unmittelbarkeit die tiefste. Wenn man den Weg der Unmittelbarkeit weitergeht\, kann man sich der Erfahrung des Eins-Seins mit Christus annähern.“\n– Franz Jalics\, Der Kontemplative Weg \nKontemplation jeden 2. und 4. Montag im Monat \nAnleitung: Marlies und Jens Reulecke
URL:https://www.refo-moabit.de/termin/kontemplation-26/
LOCATION:REFO Kirche\, Beusselstraße 35\, Berlin\, 10551\, Deutschland
CATEGORIES:Kontemplation
ATTACH;FMTTYPE=image/jpeg:https://www.refo-moabit.de/wp-content/uploads/kontemplation-stille_burkhard.oelmann.jpg
END:VEVENT
BEGIN:VEVENT
DTSTART;TZID=Europe/Berlin:20260715T180000
DTEND;TZID=Europe/Berlin:20260715T190000
DTSTAMP:20260420T144848
CREATED:20260324T103747Z
LAST-MODIFIED:20260324T103747Z
UID:9030-1784138400-1784142000@www.refo-moabit.de
SUMMARY:Kiezdinner
DESCRIPTION:Mittwochs in der Refo: Jede & jeder ist herzlich willkommen. Zeit für Gemeinschaft & Begegnung\, gutes Essen\, auftanken & zur Ruhe kommen. Kunst genießen oder sich über relevante Gesellschafts-\, Lebens- und Glaubensthemen austauschen. \n18 Uhr Kiez-Dinner von Mai bis September auf dem Wiclefplatz (bei Regen im Saal) \nWir stellen Brot\, Butter und Wasser. Du bringst mit\, was du essen magst. Wir teilen und essen gemeinsam. \n19 Uhr Atempause – Meditation nach Ignatius von Loyola \n20 Uhr After 8 – Performance\, Konzert\, Gespräch\, Lesung … Jede Woche gibt es abwechslungsreiches Programm.
URL:https://www.refo-moabit.de/termin/kiezdinner/
LOCATION:REFO Campus\, Wiclefstr. 32\, Berlin\, 10551
CATEGORIES:Kiezdinner
ATTACH;FMTTYPE=image/jpeg:https://www.refo-moabit.de/wp-content/uploads/tischabendmahl_dieter.k_unsplash.jpg
END:VEVENT
BEGIN:VEVENT
DTSTART;TZID=Europe/Berlin:20260715T190000
DTEND;TZID=Europe/Berlin:20260715T193000
DTSTAMP:20260420T144848
CREATED:20251023T093154Z
LAST-MODIFIED:20260324T094340Z
UID:8446-1784142000-1784143800@www.refo-moabit.de
SUMMARY:Atempause - Meditation
DESCRIPTION:Die Atempause ist ein Tagesrückblick der anderen Art\, der dich zur Ruhe kommen lässt. Die angeleitete Meditation erfolgt nach dem Gebet der liebenden Aufmerksamkeit von Ignatius von Loyola. \n+++ \nSetz dich auf ein Gebetsbänkchen\, leg dich auf den beheizten Holzboden oder kuschel dich in einen Sessel und lass den Stress des Tages hinter dir. \nAußerdem singen wir gelegentlich Taizé-Lieder und feiern Abendmahl.
URL:https://www.refo-moabit.de/termin/meditation-2/
LOCATION:REFO Kirche\, Beusselstraße 35\, Berlin\, 10551\, Deutschland
CATEGORIES:Meditation
ATTACH;FMTTYPE=image/png:https://www.refo-moabit.de/wp-content/uploads/atempause_kapelle_burhard.oelmann.png
END:VEVENT
BEGIN:VEVENT
DTSTART;TZID=Europe/Berlin:20260727T193000
DTEND;TZID=Europe/Berlin:20260727T203000
DTSTAMP:20260420T144848
CREATED:20251020T100207Z
LAST-MODIFIED:20260324T094849Z
UID:8399-1785180600-1785184200@www.refo-moabit.de
SUMMARY:Kontemplation
DESCRIPTION:Sitzen und Beten in der Stille. \nImpuls gefolgt von 2 x 25 Minuten Meditation in der Stille. Austausch. \n„Es gibt aber auch eine Anbetung mit dem Sein: einfach für Gott da sein. Diese ist wegen ihrer Unmittelbarkeit die tiefste. Wenn man den Weg der Unmittelbarkeit weitergeht\, kann man sich der Erfahrung des Eins-Seins mit Christus annähern.“\n– Franz Jalics\, Der Kontemplative Weg \nKontemplation jeden 2. und 4. Montag im Monat \nAnleitung: Marlies und Jens Reulecke
URL:https://www.refo-moabit.de/termin/kontemplation-25/
LOCATION:REFO Kirche\, Beusselstraße 35\, Berlin\, 10551\, Deutschland
CATEGORIES:Kontemplation
ATTACH;FMTTYPE=image/jpeg:https://www.refo-moabit.de/wp-content/uploads/kontemplation-stille_burkhard.oelmann.jpg
END:VEVENT
END:VCALENDAR