BEGIN:VCALENDAR
VERSION:2.0
PRODID:-//Refo Moabit - ECPv6.15.17.1//NONSGML v1.0//EN
CALSCALE:GREGORIAN
METHOD:PUBLISH
X-ORIGINAL-URL:https://www.refo-moabit.de
X-WR-CALDESC:Veranstaltungen für Refo Moabit
REFRESH-INTERVAL;VALUE=DURATION:PT1H
X-Robots-Tag:noindex
X-PUBLISHED-TTL:PT1H
BEGIN:VTIMEZONE
TZID:Europe/Berlin
BEGIN:DAYLIGHT
TZOFFSETFROM:+0100
TZOFFSETTO:+0200
TZNAME:CEST
DTSTART:20250330T010000
END:DAYLIGHT
BEGIN:STANDARD
TZOFFSETFROM:+0200
TZOFFSETTO:+0100
TZNAME:CET
DTSTART:20251026T010000
END:STANDARD
BEGIN:DAYLIGHT
TZOFFSETFROM:+0100
TZOFFSETTO:+0200
TZNAME:CEST
DTSTART:20260329T010000
END:DAYLIGHT
BEGIN:STANDARD
TZOFFSETFROM:+0200
TZOFFSETTO:+0100
TZNAME:CET
DTSTART:20261025T010000
END:STANDARD
BEGIN:DAYLIGHT
TZOFFSETFROM:+0100
TZOFFSETTO:+0200
TZNAME:CEST
DTSTART:20270328T010000
END:DAYLIGHT
BEGIN:STANDARD
TZOFFSETFROM:+0200
TZOFFSETTO:+0100
TZNAME:CET
DTSTART:20271031T010000
END:STANDARD
END:VTIMEZONE
BEGIN:VEVENT
DTSTART;TZID=Europe/Berlin:20260601T201500
DTEND;TZID=Europe/Berlin:20260601T213000
DTSTAMP:20260420T131358
CREATED:20251103T094149Z
LAST-MODIFIED:20260312T102723Z
UID:8474-1780344900-1780349400@www.refo-moabit.de
SUMMARY:Taizé-Singen
DESCRIPTION:Wir wollen zusammen kommen\, um die schönen und meditativen Lieder aus der Taizé Gemeinschaft zu singen. Durch die vielen Wiederholungen der einfachen und stimmungsvollen Lieder eröffnen wir einen transzendenten Raum\, der uns Gott spüren lässt. Kommt zahlreich\, gemeinsam lassen wir die Kirche erklingen.
URL:https://www.refo-moabit.de/termin/taize-singen-5/
LOCATION:REFO Kirche\, Beusselstraße 35\, Berlin\, 10551\, Deutschland
CATEGORIES:Taizé
ATTACH;FMTTYPE=image/jpeg:https://www.refo-moabit.de/wp-content/uploads/kerze_taize_nicolas.brulois_unsplash.jpg
END:VEVENT
BEGIN:VEVENT
DTSTART;TZID=Europe/Berlin:20260603T180000
DTEND;TZID=Europe/Berlin:20260603T190000
DTSTAMP:20260420T131358
CREATED:20250814T100051Z
LAST-MODIFIED:20260324T103221Z
UID:8175-1780509600-1780513200@www.refo-moabit.de
SUMMARY:Kiezdinner
DESCRIPTION:Mittwochs in der Refo: Jede & jeder ist herzlich willkommen. Zeit für Gemeinschaft & Begegnung\, gutes Essen\, auftanken & zur Ruhe kommen. Kunst genießen oder sich über relevante Gesellschafts-\, Lebens- und Glaubensthemen austauschen. \n18 Uhr Kiez-Dinner von Mai bis September auf dem Wiclefplatz (bei Regen im Saal) \nWir stellen Brot\, Butter und Wasser. Du bringst mit\, was du essen magst. Wir teilen und essen gemeinsam. \n19 Uhr Atempause – Meditation nach Ignatius von Loyola \n20 Uhr After 8 – Performance\, Konzert\, Gespräch\, Lesung … Jede Woche gibt es abwechslungsreiches Programm.
URL:https://www.refo-moabit.de/termin/brotzeit-38/
LOCATION:REFO Campus\, Wiclefstr. 32\, Berlin\, 10551
CATEGORIES:Kiezdinner
ATTACH;FMTTYPE=image/jpeg:https://www.refo-moabit.de/wp-content/uploads/tischabendmahl_dieter.k_unsplash.jpg
END:VEVENT
BEGIN:VEVENT
DTSTART;TZID=Europe/Berlin:20260603T190000
DTEND;TZID=Europe/Berlin:20260603T193000
DTSTAMP:20260420T131358
CREATED:20251213T132229Z
LAST-MODIFIED:20260324T093823Z
UID:8592-1780513200-1780515000@www.refo-moabit.de
SUMMARY:Atempause - Meditation
DESCRIPTION:Die Atempause ist ein Tagesrückblick der anderen Art\, der dich zur Ruhe kommen lässt. Die angeleitete Meditation erfolgt nach dem Gebet der liebenden Aufmerksamkeit von Ignatius von Loyola. \n+++ \nSetz dich auf ein Gebetsbänkchen\, leg dich auf den beheizten Holzboden oder kuschel dich in einen Sessel und lass den Stress des Tages hinter dir. \nAußerdem singen wir gelegentlich Taizé-Lieder und feiern Abendmahl.
URL:https://www.refo-moabit.de/termin/meditation-8/
LOCATION:REFO Kirche\, Beusselstraße 35\, Berlin\, 10551\, Deutschland
CATEGORIES:Meditation
ATTACH;FMTTYPE=image/png:https://www.refo-moabit.de/wp-content/uploads/atempause_kapelle_burhard.oelmann.png
END:VEVENT
BEGIN:VEVENT
DTSTART;TZID=Europe/Berlin:20260605T170000
DTEND;TZID=Europe/Berlin:20260605T183000
DTSTAMP:20260420T131358
CREATED:20250519T093309Z
LAST-MODIFIED:20260324T092655Z
UID:8049-1780678800-1780684200@www.refo-moabit.de
SUMMARY:Refo Kids
DESCRIPTION:Unsere Gruppe richtet sich hauptsächlich an Kinder von 9 bis 12 Jahren. Wir spielen\, lachen\, basteln und bieten ihnen einen Ort\, an dem sie sich mit Gleichaltrigen über Gott und die Welt austauschen können. Es geht bei uns von Action bis zu echtem Tiefgang. \nWir treffen uns freitags von 17 bis 18:30 Uhr auf der Refo-Community Etage (Eingang Wiclefstr. 32 bei der roten Tür\, 1.OG) \nAnsprechperson: Claudia Rauhut (c.rauhut@refo-moabit.de)
URL:https://www.refo-moabit.de/termin/refo-kids-girls-29/
LOCATION:REFO Campus\, Wiclefstr. 32\, Berlin\, 10551
CATEGORIES:Kids@Refo
ATTACH;FMTTYPE=image/jpeg:https://www.refo-moabit.de/wp-content/uploads/kinderkirche_kateryna.hliznitsova_unsplash.jpg
END:VEVENT
BEGIN:VEVENT
DTSTART;TZID=Europe/Berlin:20260607T170000
DTEND;TZID=Europe/Berlin:20260607T180000
DTSTAMP:20260420T131358
CREATED:20260123T151055Z
LAST-MODIFIED:20260324T104123Z
UID:8715-1780851600-1780855200@www.refo-moabit.de
SUMMARY:Kontemplativer Gottesdienst
DESCRIPTION:Die Kontemplation unterstützt uns dabei\, mit der Gegenwart Christi in Verbindung zu treten und in ihr zu verweilen. \nBesonders in einer Zeit in der das „sich Zeit nehmen“ immer kürzer kommt\, da viele Menschen glauben\, einfach keine Zeit mehr zu haben\, brauchen wir solche Ankerpunkte. \nJens und Marlies Reulecke
URL:https://www.refo-moabit.de/termin/kontemplativer-gottesdienst-6/
LOCATION:REFO Kirche\, Beusselstraße 35\, Berlin\, 10551\, Deutschland
CATEGORIES:Gottesdienst,Kontemplation
ATTACH;FMTTYPE=image/jpeg:https://www.refo-moabit.de/wp-content/uploads/gottesdienst-kontemplativer_jens.reulecke.jpg
END:VEVENT
BEGIN:VEVENT
DTSTART;TZID=Europe/Berlin:20260608T193000
DTEND;TZID=Europe/Berlin:20260608T203000
DTSTAMP:20260420T131358
CREATED:20260220T095639Z
LAST-MODIFIED:20260220T095639Z
UID:8869-1780947000-1780950600@www.refo-moabit.de
SUMMARY:Kontemplation
DESCRIPTION:Kontemplation jeden 2. und 4. Montag im Monat Herzliche Einladung zum Sitzen und Beten in der Stille. Impuls\, 2 x 25 Minuten Meditation\, Austausch \nAnleitung: Marlies und Jens Reulecke
URL:https://www.refo-moabit.de/termin/kontemplation-35/
LOCATION:REFO Kirche\, Beusselstraße 35\, Berlin\, 10551\, Deutschland
CATEGORIES:Kontemplation
ATTACH;FMTTYPE=image/jpeg:https://www.refo-moabit.de/wp-content/uploads/kontemplation_burkhard.oelmann.jpg
END:VEVENT
BEGIN:VEVENT
DTSTART;TZID=Europe/Berlin:20260610T180000
DTEND;TZID=Europe/Berlin:20260610T190000
DTSTAMP:20260420T131358
CREATED:20250623T160742Z
LAST-MODIFIED:20260324T103305Z
UID:8129-1781114400-1781118000@www.refo-moabit.de
SUMMARY:Kiezdinner
DESCRIPTION:Mittwochs in der Refo: Jede & jeder ist herzlich willkommen. Zeit für Gemeinschaft & Begegnung\, gutes Essen\, auftanken & zur Ruhe kommen. Kunst genießen oder sich über relevante Gesellschafts-\, Lebens- und Glaubensthemen austauschen. \n18 Uhr Kiez-Dinner von Mai bis September auf dem Wiclefplatz (bei Regen im Saal) \nWir stellen Brot\, Butter und Wasser. Du bringst mit\, was du essen magst. Wir teilen und essen gemeinsam. \n19 Uhr Atempause – Meditation nach Ignatius von Loyola \n20 Uhr After 8 – Performance\, Konzert\, Gespräch\, Lesung … Jede Woche gibt es abwechslungsreiches Programm.
URL:https://www.refo-moabit.de/termin/brotzeit-37/
LOCATION:REFO Campus\, Wiclefstr. 32\, Berlin\, 10551
CATEGORIES:Kiezdinner
ATTACH;FMTTYPE=image/jpeg:https://www.refo-moabit.de/wp-content/uploads/tischabendmahl_dieter.k_unsplash.jpg
END:VEVENT
BEGIN:VEVENT
DTSTART;TZID=Europe/Berlin:20260610T190000
DTEND;TZID=Europe/Berlin:20260610T193000
DTSTAMP:20260420T131358
CREATED:20251023T093509Z
LAST-MODIFIED:20260324T093917Z
UID:8454-1781118000-1781119800@www.refo-moabit.de
SUMMARY:Atempause - Meditation
DESCRIPTION:Die Atempause ist ein Tagesrückblick der anderen Art\, der dich zur Ruhe kommen lässt. Die angeleitete Meditation erfolgt nach dem Gebet der liebenden Aufmerksamkeit von Ignatius von Loyola. \n+++ \nSetz dich auf ein Gebetsbänkchen\, leg dich auf den beheizten Holzboden oder kuschel dich in einen Sessel und lass den Stress des Tages hinter dir. \nAußerdem singen wir gelegentlich Taizé-Lieder und feiern Abendmahl.
URL:https://www.refo-moabit.de/termin/meditation-6/
LOCATION:REFO Kirche\, Beusselstraße 35\, Berlin\, 10551\, Deutschland
CATEGORIES:Meditation
ATTACH;FMTTYPE=image/png:https://www.refo-moabit.de/wp-content/uploads/atempause_kapelle_burhard.oelmann.png
END:VEVENT
BEGIN:VEVENT
DTSTART;TZID=Europe/Berlin:20260617T180000
DTEND;TZID=Europe/Berlin:20260617T190000
DTSTAMP:20260420T131358
CREATED:20250623T160651Z
LAST-MODIFIED:20260324T103336Z
UID:8127-1781719200-1781722800@www.refo-moabit.de
SUMMARY:Kiezdinner
DESCRIPTION:Mittwochs in der Refo: Jede & jeder ist herzlich willkommen. Zeit für Gemeinschaft & Begegnung\, gutes Essen\, auftanken & zur Ruhe kommen. Kunst genießen oder sich über relevante Gesellschafts-\, Lebens- und Glaubensthemen austauschen. \n18 Uhr Kiez-Dinner von Mai bis September auf dem Wiclefplatz (bei Regen im Saal) \nWir stellen Brot\, Butter und Wasser. Du bringst mit\, was du essen magst. Wir teilen und essen gemeinsam. \n19 Uhr Atempause – Meditation nach Ignatius von Loyola \n20 Uhr After 8 – Performance\, Konzert\, Gespräch\, Lesung … Jede Woche gibt es abwechslungsreiches Programm.
URL:https://www.refo-moabit.de/termin/brotzeit-36/
LOCATION:REFO Campus\, Wiclefstr. 32\, Berlin\, 10551
CATEGORIES:Kiezdinner
ATTACH;FMTTYPE=image/jpeg:https://www.refo-moabit.de/wp-content/uploads/tischabendmahl_dieter.k_unsplash.jpg
END:VEVENT
BEGIN:VEVENT
DTSTART;TZID=Europe/Berlin:20260617T190000
DTEND;TZID=Europe/Berlin:20260617T193000
DTSTAMP:20260420T131358
CREATED:20251023T093557Z
LAST-MODIFIED:20260324T094013Z
UID:8456-1781722800-1781724600@www.refo-moabit.de
SUMMARY:Atempause - Meditation
DESCRIPTION:Die Atempause ist ein Tagesrückblick der anderen Art\, der dich zur Ruhe kommen lässt. Die angeleitete Meditation erfolgt nach dem Gebet der liebenden Aufmerksamkeit von Ignatius von Loyola. \n+++ \nSetz dich auf ein Gebetsbänkchen\, leg dich auf den beheizten Holzboden oder kuschel dich in einen Sessel und lass den Stress des Tages hinter dir. \nAußerdem singen wir gelegentlich Taizé-Lieder und feiern Abendmahl.
URL:https://www.refo-moabit.de/termin/meditation-7/
LOCATION:REFO Kirche\, Beusselstraße 35\, Berlin\, 10551\, Deutschland
CATEGORIES:Meditation
ATTACH;FMTTYPE=image/png:https://www.refo-moabit.de/wp-content/uploads/atempause_kapelle_burhard.oelmann.png
END:VEVENT
BEGIN:VEVENT
DTSTART;TZID=Europe/Berlin:20260621T170000
DTEND;TZID=Europe/Berlin:20260621T180000
DTSTAMP:20260420T131358
CREATED:20260123T153000Z
LAST-MODIFIED:20260324T104352Z
UID:8736-1782061200-1782064800@www.refo-moabit.de
SUMMARY:Gottesdienst
DESCRIPTION:
URL:https://www.refo-moabit.de/termin/gottesdienst-7/
LOCATION:REFO Kirche\, Beusselstraße 35\, Berlin\, 10551\, Deutschland
CATEGORIES:Gottesdienst
ATTACH;FMTTYPE=image/jpeg:https://www.refo-moabit.de/wp-content/uploads/refo-regenbogen.jpg
END:VEVENT
BEGIN:VEVENT
DTSTART;TZID=Europe/Berlin:20260622T193000
DTEND;TZID=Europe/Berlin:20260622T203000
DTSTAMP:20260420T131358
CREATED:20260220T095724Z
LAST-MODIFIED:20260220T095725Z
UID:8871-1782156600-1782160200@www.refo-moabit.de
SUMMARY:Kontemplation
DESCRIPTION:Kontemplation jeden 2. und 4. Montag im Monat Herzliche Einladung zum Sitzen und Beten in der Stille. Impuls\, 2 x 25 Minuten Meditation\, Austausch \nAnleitung: Marlies und Jens Reulecke
URL:https://www.refo-moabit.de/termin/kontemplation-36/
LOCATION:REFO Kirche\, Beusselstraße 35\, Berlin\, 10551\, Deutschland
CATEGORIES:Kontemplation
ATTACH;FMTTYPE=image/jpeg:https://www.refo-moabit.de/wp-content/uploads/kontemplation_burkhard.oelmann.jpg
END:VEVENT
BEGIN:VEVENT
DTSTART;TZID=Europe/Berlin:20260624T180000
DTEND;TZID=Europe/Berlin:20260624T190000
DTSTAMP:20260420T131358
CREATED:20250814T100315Z
LAST-MODIFIED:20260324T103515Z
UID:8179-1782324000-1782327600@www.refo-moabit.de
SUMMARY:Kiezdinner
DESCRIPTION:Mittwochs in der Refo: Jede & jeder ist herzlich willkommen. Zeit für Gemeinschaft & Begegnung\, gutes Essen\, auftanken & zur Ruhe kommen. Kunst genießen oder sich über relevante Gesellschafts-\, Lebens- und Glaubensthemen austauschen. \n18 Uhr Kiez-Dinner von Mai bis September auf dem Wiclefplatz (bei Regen im Saal) \nWir stellen Brot\, Butter und Wasser. Du bringst mit\, was du essen magst. Wir teilen und essen gemeinsam. \n19 Uhr Atempause – Meditation nach Ignatius von Loyola \n20 Uhr After 8 – Performance\, Konzert\, Gespräch\, Lesung … Jede Woche gibt es abwechslungsreiches Programm. \n 
URL:https://www.refo-moabit.de/termin/brotzeit-40/
LOCATION:REFO Campus\, Wiclefstr. 32\, Berlin\, 10551
CATEGORIES:Kiezdinner
ATTACH;FMTTYPE=image/jpeg:https://www.refo-moabit.de/wp-content/uploads/tischabendmahl_dieter.k_unsplash.jpg
END:VEVENT
BEGIN:VEVENT
DTSTART;TZID=Europe/Berlin:20260624T190000
DTEND;TZID=Europe/Berlin:20260624T200000
DTSTAMP:20260420T131358
CREATED:20251023T093415Z
LAST-MODIFIED:20260324T094045Z
UID:8452-1782327600-1782331200@www.refo-moabit.de
SUMMARY:Atempause - Meditation
DESCRIPTION:Die Atempause ist ein Tagesrückblick der anderen Art\, der dich zur Ruhe kommen lässt. Die angeleitete Meditation erfolgt nach dem Gebet der liebenden Aufmerksamkeit von Ignatius von Loyola. \n+++ \nSetz dich auf ein Gebetsbänkchen\, leg dich auf den beheizten Holzboden oder kuschel dich in einen Sessel und lass den Stress des Tages hinter dir. \nAußerdem singen wir gelegentlich Taizé-Lieder und feiern Abendmahl.
URL:https://www.refo-moabit.de/termin/meditation-5/
LOCATION:REFO Kirche\, Beusselstraße 35\, Berlin\, 10551\, Deutschland
CATEGORIES:Meditation
ATTACH;FMTTYPE=image/png:https://www.refo-moabit.de/wp-content/uploads/atempause_kapelle_burhard.oelmann.png
END:VEVENT
BEGIN:VEVENT
DTSTART;TZID=Europe/Berlin:20260624T200000
DTEND;TZID=Europe/Berlin:20260624T200000
DTSTAMP:20260420T131358
CREATED:20260129T152205Z
LAST-MODIFIED:20260312T105542Z
UID:8797-1782331200-1782331200@www.refo-moabit.de
SUMMARY:Lesung "geborgen"
DESCRIPTION:Berliner Autor:innen lesen aus der “geborgen”-Reihe mit musikalischer Begleitung
URL:https://www.refo-moabit.de/termin/lesung-geborgen/
LOCATION:REFO Kirche\, Beusselstraße 35\, Berlin\, 10551\, Deutschland
CATEGORIES:After8
END:VEVENT
END:VCALENDAR