BEGIN:VCALENDAR
VERSION:2.0
PRODID:-//Refo Moabit - ECPv6.15.17.1//NONSGML v1.0//EN
CALSCALE:GREGORIAN
METHOD:PUBLISH
X-ORIGINAL-URL:https://www.refo-moabit.de
X-WR-CALDESC:Veranstaltungen für Refo Moabit
REFRESH-INTERVAL;VALUE=DURATION:PT1H
X-Robots-Tag:noindex
X-PUBLISHED-TTL:PT1H
BEGIN:VTIMEZONE
TZID:Europe/Berlin
BEGIN:DAYLIGHT
TZOFFSETFROM:+0100
TZOFFSETTO:+0200
TZNAME:CEST
DTSTART:20240331T010000
END:DAYLIGHT
BEGIN:STANDARD
TZOFFSETFROM:+0200
TZOFFSETTO:+0100
TZNAME:CET
DTSTART:20241027T010000
END:STANDARD
BEGIN:DAYLIGHT
TZOFFSETFROM:+0100
TZOFFSETTO:+0200
TZNAME:CEST
DTSTART:20250330T010000
END:DAYLIGHT
BEGIN:STANDARD
TZOFFSETFROM:+0200
TZOFFSETTO:+0100
TZNAME:CET
DTSTART:20251026T010000
END:STANDARD
BEGIN:DAYLIGHT
TZOFFSETFROM:+0100
TZOFFSETTO:+0200
TZNAME:CEST
DTSTART:20260329T010000
END:DAYLIGHT
BEGIN:STANDARD
TZOFFSETFROM:+0200
TZOFFSETTO:+0100
TZNAME:CET
DTSTART:20261025T010000
END:STANDARD
END:VTIMEZONE
BEGIN:VEVENT
DTSTART;TZID=Europe/Berlin:20250701T190000
DTEND;TZID=Europe/Berlin:20250701T210000
DTSTAMP:20260421T131326
CREATED:20250519T092724Z
LAST-MODIFIED:20250627T102644Z
UID:8034-1751396400-1751403600@www.refo-moabit.de
SUMMARY:Tanzereignis Moabit | Conscious Body System | Chaim Gebber & Roberta Pupotto
DESCRIPTION:Das von Chaim Gebber entwickelte „Conscious Body System“ besteht aus verschiedenen mentalen und physischen Übungen\, die darauf abzielen\, die Funktionalität des Körpers durch bestimmte Improvisationsübungen und Tanzkombinationen zu verbessern\, die auf lateralen Bewegungen basieren. Die Übungen dienen der Entwicklung des Bewusstseins und der Verbesserung des individuellen und des sozialen Körpers. \n01.07.\, 19-21h \nRefo Moabit  | Beusselstr. 35 | 10553 Berlin  \nAuf Spendenbasis: 5-10€  \nDas Tanzereignis ist Teil des Tanzjahrs 2025 an der Refo und wird gefördert vom Ev. Kirchenkreis Berlin Stadtmitte. \n 
URL:https://www.refo-moabit.de/termin/tanzereignis-moabit-conscious-body-system-chaim-gebber-roberta-pupotto/
LOCATION:REFO Kirche\, Beusselstraße 35\, Berlin\, 10551\, Deutschland
END:VEVENT
BEGIN:VEVENT
DTSTART;TZID=Europe/Berlin:20250702T170000
DTEND;TZID=Europe/Berlin:20250702T190000
DTSTAMP:20260421T131326
CREATED:20250519T094311Z
LAST-MODIFIED:20250519T094311Z
UID:8080-1751475600-1751482800@www.refo-moabit.de
SUMMARY:"Mal reden" - Ich höre dir zu | Seelsorge
DESCRIPTION:Du möchtest einfach mal reden. Über Frust sprechen. Oder von deiner Angst. Mal Einsamkeit überwinden. Auch mal Müll abladen. Deeptalk.\nWir sind ein Team von Leuten\, die zuhören können. Eine oder einer ist für dich da und trifft sich mit dir zum Gespräch. In der Kirche oder auf einen Spaziergang. \nMittwochs zwischen 17 und 19 Uhr sitzt Eine oder Einer von uns am Kircheneingang Ecke Beusselstraße und Wiclefstraße und wartet auf dich:\nAnne\, Brigitte\, Friedgard\, Gabriele\, Helene\, Rudi\, Sebastian\, Stefanie
URL:https://www.refo-moabit.de/termin/mal-reden-ich-hoere-dir-zu-seelsorge-17/
LOCATION:REFO Kapelle\, Ecke Wiclefstraße 32 / Beusselstraße 35\, Berlin\, 10551
CATEGORIES:Seelsorge
END:VEVENT
BEGIN:VEVENT
DTSTART;TZID=Europe/Berlin:20250706T170000
DTEND;TZID=Europe/Berlin:20250706T183000
DTSTAMP:20260421T131326
CREATED:20250519T095115Z
LAST-MODIFIED:20250630T085100Z
UID:8098-1751821200-1751826600@www.refo-moabit.de
SUMMARY:Kontemplativer Gottesdienst
DESCRIPTION:Thema: Lächeln – „Frieden beginnt mit einem Lächeln“ Mutter Theresa \nWir laden alle herzlich zum Gottesdienst ein\, die Lust darauf haben\, über das Lächeln nachzusinnen. \nWir freuen uns auf euch! – Marlies & Jens \n 
URL:https://www.refo-moabit.de/termin/kontemplativer-gottesdienst/
LOCATION:REFO Kirche\, Beusselstraße 35\, Berlin\, 10551\, Deutschland
CATEGORIES:Gottesdienst
END:VEVENT
BEGIN:VEVENT
DTSTART;TZID=Europe/Berlin:20250708T190000
DTEND;TZID=Europe/Berlin:20250708T203000
DTSTAMP:20260421T131326
CREATED:20250707T105819Z
LAST-MODIFIED:20250707T105819Z
UID:8141-1752001200-1752006600@www.refo-moabit.de
SUMMARY:Lebend leben | Bewegungskurs
DESCRIPTION:Was macht Dich lebendig?\nVier Abende. Vier Einheiten. Viele Aha-Momente. \nIn diesem Kurs geht es um Dich – darum\, wie Du Dich im Alltag erlebst\, wie Du mit Deinem Körper umgehst und wie Du Dir selbst begegnest. \nBist Du im Moment eher im Funktionsmodus? Oder erlebst Du Dein Leben mit Leichtigkeit und Freude? Wie nimmst Du Deinen Körper wahr – und wie gehst Du mit Anspannung oder Schmerz um? \nLebendig zu sein heißt\, in Kontakt mit dem zu kommen\, was gerade da ist – auch mit dem\, was vielleicht unangenehm ist. Statt Widerstände zu verdrängen\, wollen wir sie annehmen und neue Erfahrungen ermöglichen. \nDu bist eingeladen\, Dich selbst bewusster wahrzunehmen\, Deinen Körper zu spüren und Dich in Bew egung zu bringen – spielerisch\, leicht und echt. \nWenn Du Lust hast\, neue Impulse für mehr Lebendigkeit zu bekommen\, komm gern dazu!  \nKursleitung: Carolina Martinez-Luther | https://www.lebenslernfreude.de/\nAnmeldung: mail@lebenslernfreude.de\nWo: Reformationskirche\, Beusselstraße 35\, 10553 Berlin\nBeitrag auf Spendenbasis: 5–10 Euro\nWeitere Termine: 08.07. & 15.07.
URL:https://www.refo-moabit.de/termin/lebend-leben-bewegungskurs/
LOCATION:REFO Kirche\, Beusselstraße 35\, Berlin\, 10551\, Deutschland
END:VEVENT
BEGIN:VEVENT
DTSTART;TZID=Europe/Berlin:20250709T170000
DTEND;TZID=Europe/Berlin:20250709T190000
DTSTAMP:20260421T131326
CREATED:20250519T094344Z
LAST-MODIFIED:20250519T094344Z
UID:8082-1752080400-1752087600@www.refo-moabit.de
SUMMARY:"Mal reden" - Ich höre dir zu | Seelsorge
DESCRIPTION:Du möchtest einfach mal reden. Über Frust sprechen. Oder von deiner Angst. Mal Einsamkeit überwinden. Auch mal Müll abladen. Deeptalk.\nWir sind ein Team von Leuten\, die zuhören können. Eine oder einer ist für dich da und trifft sich mit dir zum Gespräch. In der Kirche oder auf einen Spaziergang. \nMittwochs zwischen 17 und 19 Uhr sitzt Eine oder Einer von uns am Kircheneingang Ecke Beusselstraße und Wiclefstraße und wartet auf dich:\nAnne\, Brigitte\, Friedgard\, Gabriele\, Helene\, Rudi\, Sebastian\, Stefanie
URL:https://www.refo-moabit.de/termin/mal-reden-ich-hoere-dir-zu-seelsorge-18/
LOCATION:REFO Kapelle\, Ecke Wiclefstraße 32 / Beusselstraße 35\, Berlin\, 10551
CATEGORIES:Seelsorge
END:VEVENT
BEGIN:VEVENT
DTSTART;TZID=Europe/Berlin:20250712T160000
DTEND;TZID=Europe/Berlin:20250712T180000
DTSTAMP:20260421T131326
CREATED:20250519T095210Z
LAST-MODIFIED:20250519T095210Z
UID:8100-1752336000-1752343200@www.refo-moabit.de
SUMMARY:Kinderkirche
DESCRIPTION:
URL:https://www.refo-moabit.de/termin/kinderkirche-9/
LOCATION:REFO Campus\, Wiclefstr. 32\, Berlin\, 10551
CATEGORIES:Kids@Refo
END:VEVENT
BEGIN:VEVENT
DTSTART;TZID=Europe/Berlin:20250714T193000
DTEND;TZID=Europe/Berlin:20250714T203000
DTSTAMP:20260421T131326
CREATED:20250519T094718Z
LAST-MODIFIED:20250519T094718Z
UID:8090-1752521400-1752525000@www.refo-moabit.de
SUMMARY:Kontemplation
DESCRIPTION:Kontemplation jeden 2. und 4. Montag im Monat \nHerzliche Einladung zum Sitzen und Beten in der Stille.\nImpuls\, 2 x 25 Minuten Meditation\, Austausch \nOrt: Refo Kirche\nAnleitung: Marlies und Jens Reulecke
URL:https://www.refo-moabit.de/termin/kontemplation-15/
LOCATION:REFO Kirche\, Beusselstraße 35\, Berlin\, 10551\, Deutschland
CATEGORIES:Kontemplation
END:VEVENT
BEGIN:VEVENT
DTSTART;TZID=Europe/Berlin:20250716T170000
DTEND;TZID=Europe/Berlin:20250716T190000
DTSTAMP:20260421T131326
CREATED:20250519T094420Z
LAST-MODIFIED:20250519T094420Z
UID:8084-1752685200-1752692400@www.refo-moabit.de
SUMMARY:"Mal reden" - Ich höre dir zu | Seelsorge
DESCRIPTION:Du möchtest einfach mal reden. Über Frust sprechen. Oder von deiner Angst. Mal Einsamkeit überwinden. Auch mal Müll abladen. Deeptalk.\nWir sind ein Team von Leuten\, die zuhören können. Eine oder einer ist für dich da und trifft sich mit dir zum Gespräch. In der Kirche oder auf einen Spaziergang. \nMittwochs zwischen 17 und 19 Uhr sitzt Eine oder Einer von uns am Kircheneingang Ecke Beusselstraße und Wiclefstraße und wartet auf dich:\nAnne\, Brigitte\, Friedgard\, Gabriele\, Helene\, Rudi\, Sebastian\, Stefanie
URL:https://www.refo-moabit.de/termin/mal-reden-ich-hoere-dir-zu-seelsorge-19/
LOCATION:REFO Kapelle\, Ecke Wiclefstraße 32 / Beusselstraße 35\, Berlin\, 10551
CATEGORIES:Seelsorge
END:VEVENT
BEGIN:VEVENT
DTSTART;TZID=Europe/Berlin:20250720T170000
DTEND;TZID=Europe/Berlin:20250720T183000
DTSTAMP:20260421T131326
CREATED:20250519T095246Z
LAST-MODIFIED:20250714T142741Z
UID:8102-1753030800-1753036200@www.refo-moabit.de
SUMMARY:Open-Air Gottesdienst
DESCRIPTION:„Es gibt kein richtiges Leben im Falschen!“ sagte ein bekannter Philosoph einmal.  \nUnd er scheint Recht zu haben. Wenn das große Ganze schief/falsch/dumm/schräg ist\, können wir kleinen Menschen es nicht ändern\, sondern müssen uns damit abfinden! – ODER? \nHerzliche Einladung zum Gottesdienst am 20.07. in der REFO.  \nWir erkunden gemeinsam die Jesus-Utopie und fragen nach dem Wunder hinter dem Wort abstrakten Wort „Auferstehung“. \n 
URL:https://www.refo-moabit.de/termin/open-air-gottesdienst/
LOCATION:REFO Campus\, Wiclefstr. 32\, Berlin\, 10551
CATEGORIES:Gottesdienst
END:VEVENT
BEGIN:VEVENT
DTSTART;TZID=Europe/Berlin:20250722T180000
DTEND;TZID=Europe/Berlin:20250722T210000
DTSTAMP:20260421T131326
CREATED:20250716T114212Z
LAST-MODIFIED:20250718T100348Z
UID:8148-1753207200-1753218000@www.refo-moabit.de
SUMMARY:TRIALOGO | Ausstellung: secret spaces || Jens Reulecke
DESCRIPTION:secret spaces II \nInstallation von Jens Reulecke  \nAusstellungseröffnung am 22.07.25\, 18:00 \nin der Refo Kapelle mit der Performance silent ground \nIn secret spaces II begegnen Fotografien aus dem Niger einem kontemplativen Raum der Stille und Präsenz. Eine einzelne Figur in der Weite der Landschaft lädt zur inneren Einkehr ein – jenseits des Sichtbaren. Eine angedeutete Schale mit angedeuteten Gesicht ergänzt die Installation\, die unsichtbaren Verbindungen zwischen Kulturen und Glaubenswelten nachspürt und zum Innezuhalten\, Zuhören und inneren Dialog anregt.  \nZur Ausstellungseröffnung entfaltet sich die Performance silent ground als leise\, körperlich reduzierte Bewegungskomposition im Raum der Installation secret spaces II. Sie übersetzt Stille Präsenz und Verbundenheit in eine temporäre\, lebendige Form. Dabei wird der Raum selbst zum Resonanzkörper. \nSecret spaces II ist ein künstlerischer Beitrag zum PROJEKT TRIALOGO.  \nIm Anschluss findet am 22.7. um 19:00 das TRIALOGO Begegnungsformat MIXAAA zum Thema „Heiliger Aktivismus“ in der Refo Kirche statt.  \nAusstellung 22.7.-1.10.25 \nFinissage 1.10. | 20h  \nRefo Kapelle. Seiteneingang Beusselstr 35 I Ecke Wiclefstr. 32. Berlin
URL:https://www.refo-moabit.de/termin/trialogo-ausstellung-secret-spaces-jens-reulecke/
LOCATION:REFO Kapelle\, Ecke Wiclefstraße 32 / Beusselstraße 35\, Berlin\, 10551
END:VEVENT
BEGIN:VEVENT
DTSTART;TZID=Europe/Berlin:20250722T190000
DTEND;TZID=Europe/Berlin:20250722T210000
DTSTAMP:20260421T131326
CREATED:20250718T095955Z
LAST-MODIFIED:20250718T095955Z
UID:8159-1753210800-1753218000@www.refo-moabit.de
SUMMARY:TRIALOGO | MIXAAA Panel: Heiliger Aktivismus 
DESCRIPTION:MIXAAA Panel ist ein performatives Begegnungsformat und bringt für TRIALOGO je drei Perspektiven miteinander ins Spiel. Drei Gäste von REFO Moabit und drei Gäste vom Netzwerk Inklusiver Islam treffen sich zum Thema Heiliger Aktivismus und auf die Fragen: Was inspiriert Euer Handeln? Woher kommt der Mut? Woher kommt die Kraft? Kommt gern dazu und nutzt die Gelegenheit zu Austausch und Begegnung zwischen Kunst & Aktivismus\, Mystik & Widerstand. \nGäste: Jackey Sanehy\, Joelina & Ali Al-Kahnani vom \nNetzwerk Inklusiver Islam;  \nJule Langmeier\, Anne Rauhut\, Miri Meyer& Steve Rauhut von Refo Moabit  \nHost: pio_near  \nDirekt vor MiXAAA entfaltet sich zur Eröffnung der begleitenden Ausstellung “secret spaces II” um 18 Uhr die Performance “silent ground” von Jens Reulecke in der Refo Kapelle und übersetzt die Themen Stille\, Präsenz und Verbundenheit in eine lebendige temporäre Form. \nMiXAAA ist Teil von TRIALOGO\, das mit Workshops\, Panels\, Ausstellungen & Podcasts je 3 Perspektiven kombiniert. \n 
URL:https://www.refo-moabit.de/termin/trialogo-mixaaa-panel-heiliger-aktivismus/
LOCATION:REFO Kirche\, Beusselstraße 35\, Berlin\, 10551\, Deutschland
END:VEVENT
BEGIN:VEVENT
DTSTART;TZID=Europe/Berlin:20250723T170000
DTEND;TZID=Europe/Berlin:20250723T190000
DTSTAMP:20260421T131326
CREATED:20250519T094511Z
LAST-MODIFIED:20250519T094511Z
UID:8086-1753290000-1753297200@www.refo-moabit.de
SUMMARY:"Mal reden" - Ich höre dir zu | Seelsorge
DESCRIPTION:Du möchtest einfach mal reden. Über Frust sprechen. Oder von deiner Angst. Mal Einsamkeit überwinden. Auch mal Müll abladen. Deeptalk.\nWir sind ein Team von Leuten\, die zuhören können. Eine oder einer ist für dich da und trifft sich mit dir zum Gespräch. In der Kirche oder auf einen Spaziergang. \nMittwochs zwischen 17 und 19 Uhr sitzt Eine oder Einer von uns am Kircheneingang Ecke Beusselstraße und Wiclefstraße und wartet auf dich:\nAnne\, Brigitte\, Friedgard\, Gabriele\, Helene\, Rudi\, Sebastian\, Stefanie
URL:https://www.refo-moabit.de/termin/mal-reden-ich-hoere-dir-zu-seelsorge-20/
LOCATION:REFO Kapelle\, Ecke Wiclefstraße 32 / Beusselstraße 35\, Berlin\, 10551
CATEGORIES:Seelsorge
END:VEVENT
BEGIN:VEVENT
DTSTART;TZID=Europe/Berlin:20250723T200000
DTEND;TZID=Europe/Berlin:20250723T220000
DTSTAMP:20260421T131326
CREATED:20250714T111754Z
LAST-MODIFIED:20250714T111754Z
UID:8143-1753300800-1753308000@www.refo-moabit.de
SUMMARY:Queeres Wohnzimmerkonzert | mit Ronaj Lou\, Beate. & Daria
DESCRIPTION:Sommer\, Pride und Ehrlichkeit. Am 23.07. ab 20 Uhr nehmen uns drei queere Künstlerinnen mit auf ihre Reise mit eigenen Liedern und Texten. Bei gutem Wetter wird der Wiclefplatz zum outdoor Wohnzimmer (sonst findet es im Refo- Saal statt) und wir stimmen uns gemeinsam auf den CSD ein. Kommt rum und lauscht\, tanzt und feiert mit uns gemeinsam die Vielfalt aller Farben. Für Getränke und Snacks ist gesorgt. Alles auf Spendenbasis.
URL:https://www.refo-moabit.de/termin/queeres-wohnzimmerkonzert-mit-ronaj-lou-beate-daria/
LOCATION:REFO Campus\, Wiclefstr. 32\, Berlin\, 10551
CATEGORIES:brot+zeit
END:VEVENT
BEGIN:VEVENT
DTSTART;VALUE=DATE:20250728
DTEND;VALUE=DATE:20250901
DTSTAMP:20260421T131326
CREATED:20250718T074832Z
LAST-MODIFIED:20250718T074832Z
UID:8157-1753660800-1756684799@www.refo-moabit.de
SUMMARY:Veranstaltungs-Sommerpause | 28.07. bis 31.08.
DESCRIPTION:
URL:https://www.refo-moabit.de/termin/veranstaltungs-sommerpause-28-07-bis-31-08/
END:VEVENT
BEGIN:VEVENT
DTSTART;TZID=Europe/Berlin:20250728T193000
DTEND;TZID=Europe/Berlin:20250728T203000
DTSTAMP:20260421T131326
CREATED:20250519T094742Z
LAST-MODIFIED:20250519T094742Z
UID:8092-1753731000-1753734600@www.refo-moabit.de
SUMMARY:Kontemplation
DESCRIPTION:Kontemplation jeden 2. und 4. Montag im Monat \nHerzliche Einladung zum Sitzen und Beten in der Stille.\nImpuls\, 2 x 25 Minuten Meditation\, Austausch \nOrt: Refo Kirche\nAnleitung: Marlies und Jens Reulecke
URL:https://www.refo-moabit.de/termin/kontemplation-16/
LOCATION:REFO Kirche\, Beusselstraße 35\, Berlin\, 10551\, Deutschland
CATEGORIES:Kontemplation
END:VEVENT
END:VCALENDAR