BEGIN:VCALENDAR
VERSION:2.0
PRODID:-//Refo Moabit - ECPv6.15.17.1//NONSGML v1.0//EN
CALSCALE:GREGORIAN
METHOD:PUBLISH
X-WR-CALNAME:Refo Moabit
X-ORIGINAL-URL:https://www.refo-moabit.de
X-WR-CALDESC:Veranstaltungen für Refo Moabit
REFRESH-INTERVAL;VALUE=DURATION:PT1H
X-Robots-Tag:noindex
X-PUBLISHED-TTL:PT1H
BEGIN:VTIMEZONE
TZID:Europe/Berlin
BEGIN:DAYLIGHT
TZOFFSETFROM:+0100
TZOFFSETTO:+0200
TZNAME:CEST
DTSTART:20240331T010000
END:DAYLIGHT
BEGIN:STANDARD
TZOFFSETFROM:+0200
TZOFFSETTO:+0100
TZNAME:CET
DTSTART:20241027T010000
END:STANDARD
BEGIN:DAYLIGHT
TZOFFSETFROM:+0100
TZOFFSETTO:+0200
TZNAME:CEST
DTSTART:20250330T010000
END:DAYLIGHT
BEGIN:STANDARD
TZOFFSETFROM:+0200
TZOFFSETTO:+0100
TZNAME:CET
DTSTART:20251026T010000
END:STANDARD
BEGIN:DAYLIGHT
TZOFFSETFROM:+0100
TZOFFSETTO:+0200
TZNAME:CEST
DTSTART:20260329T010000
END:DAYLIGHT
BEGIN:STANDARD
TZOFFSETFROM:+0200
TZOFFSETTO:+0100
TZNAME:CET
DTSTART:20261025T010000
END:STANDARD
END:VTIMEZONE
BEGIN:VEVENT
DTSTART;TZID=Europe/Berlin:20250507T160000
DTEND;TZID=Europe/Berlin:20250507T233000
DTSTAMP:20260421T161659
CREATED:20250430T113941Z
LAST-MODIFIED:20250430T114126Z
UID:8005-1746633600-1746660600@www.refo-moabit.de
SUMMARY:Friedensfest statt kriegstüchtig | Demo auf der Beusselstraße
DESCRIPTION:Demo-Aufruf \nWir feiern 80 Jahre Kriegsende und fragen: Wie werden wir friedensfest statt kriegstüchtig? \nAuch 80 Jahre nach Kriegsende ist unsere Gesellschaft weit entfernt von gerechtem Frieden. In der Durchsetzung unserer Wirtschafts- und Sicherheitsinteressen befeuern wir Kriege und Krisen und auch in unserem Alltag sind Konkurrenz und Ausschluss präsent. \nDeshalb wollen wir als Moabiter Nachbarschaft ein gemeinsames Zeichen für den Frieden setzen! \nMit einem Friedensfestessen auf der Beusselstraße feiern wir den Frieden\, der alle meint und Nachbarn und Gäste\, jung & alt\, Verlierer und Überflieger\, Friedensstifter*inne & Kratzbürsten\, Verwandte und Freund*innen einlädt. \nfeiert mit uns friedensfest \n \n  \n16:00 | In mehreren Küchen verwandeln wir Lebensmittelspenden in Beiträgen für das Demo-Buffet. Wir freuen uns über viele flinke Hände\, die mit schnippeln. Für die Kinder gibt es ein buntes Programm auf dem Wiclefplatz. \n18:00 | Wir bauen ein Buffet auf der Beusselstraße auf. Zum Friedensfestessen gibt es widerständige Musik und inspirierende Impulse. Bringt Transparente\, Teller & Picknickdecken mit! \n20:00 | In der Kirche geht’s weiter mit Spoken Word\, Konzerten\, Texten und Geschichte(n) zu Krieg & Frieden\, bevor wir dann mit DJ Body Electric in 80 Jahre Kriegsende reinfeiern. \n00:00 | Um Mitternacht laden wir ein zu einer Schweigeminute. Die Peacechapel ist künstlerisch gestaltet als Raum für Stille.
URL:https://www.refo-moabit.de/termin/friedensfest-statt-kriegstuechtig/
LOCATION:REFO Campus\, Wiclefstr. 32\, Berlin\, 10551
END:VEVENT
BEGIN:VEVENT
DTSTART;TZID=Europe/Berlin:20250508T180000
DTEND;TZID=Europe/Berlin:20250508T190000
DTSTAMP:20260421T161659
CREATED:20250506T104416Z
LAST-MODIFIED:20250506T104416Z
UID:8015-1746727200-1746730800@www.refo-moabit.de
SUMMARY:Peacechapel |  Glockenläuten & Friedensgebet
DESCRIPTION:80 Jahre Kriegsende – 80 Jahre Frieden. Glockenläuten & Friedensgebet.  \nGemeinsam mit vielen Berliner Kirchen läuten wir anlässlich des Kriegsendes vor 80 Jahren\, schweigen gemeinsam im Gedenken an das Unrecht im Nazionalsozialismus\, danken für 80 Jahre Frieden in Deutschland und beten für aktuelle Krisenherde mit einem kurzen Friedensgebet in der Refo Kapelle.
URL:https://www.refo-moabit.de/termin/peacechapel-glockenlaeuten-friedensgebet/
LOCATION:REFO Kapelle\, Ecke Wiclefstraße 32 / Beusselstraße 35\, Berlin\, 10551
END:VEVENT
BEGIN:VEVENT
DTSTART;TZID=Europe/Berlin:20250510T120000
DTEND;TZID=Europe/Berlin:20250510T140000
DTSTAMP:20260421T161659
CREATED:20250505T092711Z
LAST-MODIFIED:20250505T092711Z
UID:8010-1746878400-1746885600@www.refo-moabit.de
SUMMARY:Stolpersteinverlegung für Ottilie Pohl
DESCRIPTION:Einladung zur Verlegung eines Stolpersteins für Ottilie Pohl \nWir laden herzlich zur Verlegung eines Stolpersteins für Ottilie Pohl ein\, die während der Zeit des Nationalsozialismus entrechtet\, verfolgt und ermordet wurde. Mit dem Stolperstein möchten wir an ihr Leben erinnern und ihr ein dauerhaftes Zeichen des Gedenkens setzen. \nDie Verlegung findet an ihrer letzten bekannten Wohnanschrift\, Beusselstraße 43\, statt. \nDie Stolpersteinverlegung ist Teil des europaweiten Kunst- und Erinnerungsprojekts Stolpersteine des Künstlers Gunter Demnig. Alle Interessierten sind herzlich eingeladen\, gemeinsam ein Zeichen gegen das Vergessen zu setzen und Ottilie Pohl zu ehren. \nWiderständiges Kaffeekränzchen \nVor der Verlegung des Stolpersteins laden wir herzlich zum gemeinsamen Kaffeetrinken ein. In gemütlicher Runde möchten wir mit interessierten Nachbar*innen ins Gespräch kommen – weiblichen Widerstand in Moabit während der NS-Zeit\, über vergessene Geschichten und über die Bedeutung von Demokratie heute. \nIm Anschluss gehen wir gemeinsam zur Stolpersteinverlegung. \nAlle sind willkommen – bringt gerne Gedanken\, Fragen oder auch Kuchen mit.
URL:https://www.refo-moabit.de/termin/stolpersteinverlegung-fuer-ottilie-pohl/
LOCATION:REFO Campus\, Wiclefstr. 32\, Berlin\, 10551
END:VEVENT
BEGIN:VEVENT
DTSTART;TZID=Europe/Berlin:20250520T190000
DTEND;TZID=Europe/Berlin:20250520T210000
DTSTAMP:20260421T161659
CREATED:20250519T092047Z
LAST-MODIFIED:20250519T092047Z
UID:8029-1747767600-1747774800@www.refo-moabit.de
SUMMARY:Tanzereignis Moabit | Somatic Club Flow | Saida Makhmudzade aka Body Electric
DESCRIPTION:Nach dem Tanzherbst 2024 starten wir nun in das Tanzjahr 2025 mit einem neuen Format: dem „Tanzereignis Moabit“. Immer 1X im Monat laden wir ein zum Tanzen für alle!  \nAm Dienstag den 20.5. beginnen wir mit der Choreografin & DJ Saida Makhmudzade aka Body Electric mit „Somatic Club Flow“ – einer Mischung aus Workshop & Party. \nFür alle mit & ohne Tanzerfahrung. Bringt für Bewegung geeignete Kleidung und etwas zu trinken mit. Eintritt 5-10€.  \nDas Tanzjahr 2025 wird veranstaltet von Refo Moabit und gefördert vom Ev. Kirchenkreis Berlin Stadtmitte. \nWeitere Tanzereignisse: 17.06. mit Sigal Zouk\, 01.7. mit Chaim Gebber & Roberta Pupotto.
URL:https://www.refo-moabit.de/termin/tanzereignis-moabit-somatic-club-flow-saida-makhmudzade-aka-body-electric/
LOCATION:REFO Kirche\, Beusselstraße 35\, Berlin\, 10551\, Deutschland
END:VEVENT
END:VCALENDAR