BEGIN:VCALENDAR
VERSION:2.0
PRODID:-//Refo Moabit - ECPv6.15.17.1//NONSGML v1.0//EN
CALSCALE:GREGORIAN
METHOD:PUBLISH
X-ORIGINAL-URL:https://www.refo-moabit.de
X-WR-CALDESC:Veranstaltungen für Refo Moabit
REFRESH-INTERVAL;VALUE=DURATION:PT1H
X-Robots-Tag:noindex
X-PUBLISHED-TTL:PT1H
BEGIN:VTIMEZONE
TZID:Europe/Berlin
BEGIN:DAYLIGHT
TZOFFSETFROM:+0100
TZOFFSETTO:+0200
TZNAME:CEST
DTSTART:20240331T010000
END:DAYLIGHT
BEGIN:STANDARD
TZOFFSETFROM:+0200
TZOFFSETTO:+0100
TZNAME:CET
DTSTART:20241027T010000
END:STANDARD
BEGIN:DAYLIGHT
TZOFFSETFROM:+0100
TZOFFSETTO:+0200
TZNAME:CEST
DTSTART:20250330T010000
END:DAYLIGHT
BEGIN:STANDARD
TZOFFSETFROM:+0200
TZOFFSETTO:+0100
TZNAME:CET
DTSTART:20251026T010000
END:STANDARD
BEGIN:DAYLIGHT
TZOFFSETFROM:+0100
TZOFFSETTO:+0200
TZNAME:CEST
DTSTART:20260329T010000
END:DAYLIGHT
BEGIN:STANDARD
TZOFFSETFROM:+0200
TZOFFSETTO:+0100
TZNAME:CET
DTSTART:20261025T010000
END:STANDARD
END:VTIMEZONE
BEGIN:VEVENT
DTSTART;TZID=Europe/Berlin:20250216T170000
DTEND;TZID=Europe/Berlin:20250216T183000
DTSTAMP:20260421T202056
CREATED:20250127T095705Z
LAST-MODIFIED:20250129T161913Z
UID:7683-1739725200-1739730600@www.refo-moabit.de
SUMMARY:Gottesdienst in Bewegung
DESCRIPTION:Wasser hat die besondere Eigenschaft sich trotz Hindernisse an die Umgebung anzupassen. Es fließt\, ist weich und hat doch eine enorme Kraft\, die langfristig Steine in der Konsistenz verändert.\nWelche Hindernisse gibt es in meinem Leben? Wie kann ich mich an die Gegebenheiten anpassen und dabei weich bleiben? Und was sagt Gott dazu? \nIm nächsten Gottesdienst nähern wir uns diesen Fragen ganzheitlich. Wir werden gemeinsam singen\, einen Impuls hören und die Möglichkeit haben in unseren Körper zu spüren. Egal\, ob Du Dich gerne viel bewegst oder lieber weniger\, für alles wird Raum sein. Der Gottesdienst ist auch für Kinder sehr gut geeignet und es wird zum Teil ein extra Kinderprogramm im Saal geben.\nWir freuen uns auf Euch!
URL:https://www.refo-moabit.de/termin/gottesdienst-in-bewegung/
LOCATION:REFO Kirche\, Beusselstraße 35\, Berlin\, 10551\, Deutschland
CATEGORIES:Gottesdienst
END:VEVENT
BEGIN:VEVENT
DTSTART;TZID=Europe/Berlin:20250220T170000
DTEND;TZID=Europe/Berlin:20250220T190000
DTSTAMP:20260421T202056
CREATED:20250217T161425Z
LAST-MODIFIED:20250217T161514Z
UID:7788-1740070800-1740078000@www.refo-moabit.de
SUMMARY:Moabit Podium
DESCRIPTION:Hanna Steinmüller (Grüne)\, Annika Klose (SPD)\, Stella Merendino (Die Linke) und Lasse Hansen (CDU) diskutieren mit Moabiter Initiativen.
URL:https://www.refo-moabit.de/termin/moabit-podium/
LOCATION:REFO Kirche\, Beusselstraße 35\, Berlin\, 10551\, Deutschland
END:VEVENT
END:VCALENDAR