BEGIN:VCALENDAR
VERSION:2.0
PRODID:-//Refo Moabit - ECPv6.15.17.1//NONSGML v1.0//EN
CALSCALE:GREGORIAN
METHOD:PUBLISH
X-WR-CALNAME:Refo Moabit
X-ORIGINAL-URL:https://www.refo-moabit.de
X-WR-CALDESC:Veranstaltungen für Refo Moabit
REFRESH-INTERVAL;VALUE=DURATION:PT1H
X-Robots-Tag:noindex
X-PUBLISHED-TTL:PT1H
BEGIN:VTIMEZONE
TZID:Europe/Berlin
BEGIN:DAYLIGHT
TZOFFSETFROM:+0100
TZOFFSETTO:+0200
TZNAME:CEST
DTSTART:20250330T010000
END:DAYLIGHT
BEGIN:STANDARD
TZOFFSETFROM:+0200
TZOFFSETTO:+0100
TZNAME:CET
DTSTART:20251026T010000
END:STANDARD
BEGIN:DAYLIGHT
TZOFFSETFROM:+0100
TZOFFSETTO:+0200
TZNAME:CEST
DTSTART:20260329T010000
END:DAYLIGHT
BEGIN:STANDARD
TZOFFSETFROM:+0200
TZOFFSETTO:+0100
TZNAME:CET
DTSTART:20261025T010000
END:STANDARD
BEGIN:DAYLIGHT
TZOFFSETFROM:+0100
TZOFFSETTO:+0200
TZNAME:CEST
DTSTART:20270328T010000
END:DAYLIGHT
BEGIN:STANDARD
TZOFFSETFROM:+0200
TZOFFSETTO:+0100
TZNAME:CET
DTSTART:20271031T010000
END:STANDARD
END:VTIMEZONE
BEGIN:VEVENT
DTSTART;TZID=Europe/Berlin:20261122T170000
DTEND;TZID=Europe/Berlin:20261122T180000
DTSTAMP:20260421T044229
CREATED:20260123T152239Z
LAST-MODIFIED:20260324T110320Z
UID:8723-1795366800-1795370400@www.refo-moabit.de
SUMMARY:Gottesdienst: Fest der Toten
DESCRIPTION:Wir feiern gemeinsam und gedenken der Toten. \nEine lange Tafel. Kerzen. Musik. Geschichten.\nFreude und Trauer teilen. Gemeinsam essen\, erzählen\, lachen\, vielleicht auch still werden. \nWir erinnern uns an Menschen\, die nicht mehr da sind – mit den Gerichten\, die uns an sie erinnern. Vielleicht der Zupfkuchen von Oma\, die Pizza vom Lieblingsitaliener oder die Pasta mit der Soße\, die ihr immer zusammen gekocht habt. Bring einfach das mit\, was für dich nach Erinnerung schmeckt. \nGerne kannst du auch ein Foto oder einen Gegenstand mitbringen – etwas\, das dich mit der Person verbindet – oder einen Songtitel für unsere Erinnerungs-Playlist.\nWir teilen Geschichten\, hören Musik\, essen zusammen und lassen Erinnerungen lebendig werden. Dazu gibt’s die Gelegenheit zum Reflektieren\, Menschen\, die dir zuhören\, und ein kleines Segensritual – ganz entspannt\, im lockeren Rahmen. Komm vorbei – egal\, wie lange dein Abschied schon her ist. Ein Platz an der Tafel ist für dich frei. \nBettina\, Sebastian und Team
URL:https://www.refo-moabit.de/termin/fest-der-toten/
LOCATION:REFO Kirche\, Beusselstraße 35\, Berlin\, 10551\, Deutschland
CATEGORIES:Gottesdienst
ATTACH;FMTTYPE=image/jpeg:https://www.refo-moabit.de/wp-content/uploads/totensonntag_16x9.jpg
END:VEVENT
END:VCALENDAR