BEGIN:VCALENDAR
VERSION:2.0
PRODID:-//Refo Moabit - ECPv6.15.17.1//NONSGML v1.0//EN
CALSCALE:GREGORIAN
METHOD:PUBLISH
X-WR-CALNAME:Refo Moabit
X-ORIGINAL-URL:https://www.refo-moabit.de
X-WR-CALDESC:Veranstaltungen für Refo Moabit
REFRESH-INTERVAL;VALUE=DURATION:PT1H
X-Robots-Tag:noindex
X-PUBLISHED-TTL:PT1H
BEGIN:VTIMEZONE
TZID:Europe/Berlin
BEGIN:DAYLIGHT
TZOFFSETFROM:+0100
TZOFFSETTO:+0200
TZNAME:CEST
DTSTART:20250330T010000
END:DAYLIGHT
BEGIN:STANDARD
TZOFFSETFROM:+0200
TZOFFSETTO:+0100
TZNAME:CET
DTSTART:20251026T010000
END:STANDARD
BEGIN:DAYLIGHT
TZOFFSETFROM:+0100
TZOFFSETTO:+0200
TZNAME:CEST
DTSTART:20260329T010000
END:DAYLIGHT
BEGIN:STANDARD
TZOFFSETFROM:+0200
TZOFFSETTO:+0100
TZNAME:CET
DTSTART:20261025T010000
END:STANDARD
BEGIN:DAYLIGHT
TZOFFSETFROM:+0100
TZOFFSETTO:+0200
TZNAME:CEST
DTSTART:20270328T010000
END:DAYLIGHT
BEGIN:STANDARD
TZOFFSETFROM:+0200
TZOFFSETTO:+0100
TZNAME:CET
DTSTART:20271031T010000
END:STANDARD
END:VTIMEZONE
BEGIN:VEVENT
DTSTART;TZID=Europe/Berlin:20260601T201500
DTEND;TZID=Europe/Berlin:20260601T213000
DTSTAMP:20260420T114918
CREATED:20251103T094149Z
LAST-MODIFIED:20260312T102723Z
UID:8474-1780344900-1780349400@www.refo-moabit.de
SUMMARY:Taizé-Singen
DESCRIPTION:Wir wollen zusammen kommen\, um die schönen und meditativen Lieder aus der Taizé Gemeinschaft zu singen. Durch die vielen Wiederholungen der einfachen und stimmungsvollen Lieder eröffnen wir einen transzendenten Raum\, der uns Gott spüren lässt. Kommt zahlreich\, gemeinsam lassen wir die Kirche erklingen.
URL:https://www.refo-moabit.de/termin/taize-singen-5/
LOCATION:REFO Kirche\, Beusselstraße 35\, Berlin\, 10551\, Deutschland
CATEGORIES:Taizé
ATTACH;FMTTYPE=image/jpeg:https://www.refo-moabit.de/wp-content/uploads/kerze_taize_nicolas.brulois_unsplash.jpg
END:VEVENT
END:VCALENDAR