BEGIN:VCALENDAR
VERSION:2.0
PRODID:-//Refo Moabit - ECPv6.15.17.1//NONSGML v1.0//EN
CALSCALE:GREGORIAN
METHOD:PUBLISH
X-WR-CALNAME:Refo Moabit
X-ORIGINAL-URL:https://www.refo-moabit.de
X-WR-CALDESC:Veranstaltungen für Refo Moabit
REFRESH-INTERVAL;VALUE=DURATION:PT1H
X-Robots-Tag:noindex
X-PUBLISHED-TTL:PT1H
BEGIN:VTIMEZONE
TZID:Europe/Berlin
BEGIN:DAYLIGHT
TZOFFSETFROM:+0100
TZOFFSETTO:+0200
TZNAME:CEST
DTSTART:20250330T010000
END:DAYLIGHT
BEGIN:STANDARD
TZOFFSETFROM:+0200
TZOFFSETTO:+0100
TZNAME:CET
DTSTART:20251026T010000
END:STANDARD
BEGIN:DAYLIGHT
TZOFFSETFROM:+0100
TZOFFSETTO:+0200
TZNAME:CEST
DTSTART:20260329T010000
END:DAYLIGHT
BEGIN:STANDARD
TZOFFSETFROM:+0200
TZOFFSETTO:+0100
TZNAME:CET
DTSTART:20261025T010000
END:STANDARD
BEGIN:DAYLIGHT
TZOFFSETFROM:+0100
TZOFFSETTO:+0200
TZNAME:CEST
DTSTART:20270328T010000
END:DAYLIGHT
BEGIN:STANDARD
TZOFFSETFROM:+0200
TZOFFSETTO:+0100
TZNAME:CET
DTSTART:20271031T010000
END:STANDARD
END:VTIMEZONE
BEGIN:VEVENT
DTSTART;TZID=Europe/Berlin:20260531T140000
DTEND;TZID=Europe/Berlin:20260531T163000
DTSTAMP:20260420T102730
CREATED:20260324T113911Z
LAST-MODIFIED:20260324T113911Z
UID:9037-1780236000-1780245000@www.refo-moabit.de
SUMMARY:Refo und du?!
DESCRIPTION:Du kennst die Refo? Bist hin und wieder da? Magst den Ort und seinen Spirit? \nDann komm zum Treffen der REFO Friends. \nWerde inspiriert und inspiriere andere. Berate mit: Was passt zu mir und zur Refo? Wonach sehne ich mich? Wie kann ich mich einbringen? \nab 14 Uhr Ankommen\n14.30 bis 16.30 Uhr Forum\n17 Uhr Gottesdienst \nEs gibt Snacks & Getränke. \nMelde dich gerne an\, damit wir besser planen können oder komm direkt vorbei: Direktlink zur Anmeldung \nOrt: Refo Kirche Moabit\, Beusselstr. 35\, 10553 Berlin
URL:https://www.refo-moabit.de/termin/refo-und-du/
LOCATION:REFO Kirche\, Beusselstraße 35\, Berlin\, 10551\, Deutschland
CATEGORIES:Workshop
ATTACH;FMTTYPE=image/jpeg:https://www.refo-moabit.de/wp-content/uploads/refo-und-du_b.kammer.jpg
END:VEVENT
BEGIN:VEVENT
DTSTART;TZID=Europe/Berlin:20260531T170000
DTEND;TZID=Europe/Berlin:20260531T180000
DTSTAMP:20260420T102730
CREATED:20260123T152914Z
LAST-MODIFIED:20260324T104605Z
UID:8734-1780246800-1780250400@www.refo-moabit.de
SUMMARY:Feier-Gottesdienst
DESCRIPTION:Mit Andy Rauhut und Team.
URL:https://www.refo-moabit.de/termin/gottesdienst-6/
LOCATION:REFO Kirche\, Beusselstraße 35\, Berlin\, 10551\, Deutschland
CATEGORIES:Gottesdienst
ATTACH;FMTTYPE=image/jpeg:https://www.refo-moabit.de/wp-content/uploads/refo-regenbogen.jpg
END:VEVENT
END:VCALENDAR