BEGIN:VCALENDAR
VERSION:2.0
PRODID:-//Refo Moabit - ECPv6.15.17.1//NONSGML v1.0//EN
CALSCALE:GREGORIAN
METHOD:PUBLISH
X-ORIGINAL-URL:https://www.refo-moabit.de
X-WR-CALDESC:Veranstaltungen für Refo Moabit
REFRESH-INTERVAL;VALUE=DURATION:PT1H
X-Robots-Tag:noindex
X-PUBLISHED-TTL:PT1H
BEGIN:VTIMEZONE
TZID:Europe/Berlin
BEGIN:DAYLIGHT
TZOFFSETFROM:+0100
TZOFFSETTO:+0200
TZNAME:CEST
DTSTART:20250330T010000
END:DAYLIGHT
BEGIN:STANDARD
TZOFFSETFROM:+0200
TZOFFSETTO:+0100
TZNAME:CET
DTSTART:20251026T010000
END:STANDARD
BEGIN:DAYLIGHT
TZOFFSETFROM:+0100
TZOFFSETTO:+0200
TZNAME:CEST
DTSTART:20260329T010000
END:DAYLIGHT
BEGIN:STANDARD
TZOFFSETFROM:+0200
TZOFFSETTO:+0100
TZNAME:CET
DTSTART:20261025T010000
END:STANDARD
BEGIN:DAYLIGHT
TZOFFSETFROM:+0100
TZOFFSETTO:+0200
TZNAME:CEST
DTSTART:20270328T010000
END:DAYLIGHT
BEGIN:STANDARD
TZOFFSETFROM:+0200
TZOFFSETTO:+0100
TZNAME:CET
DTSTART:20271031T010000
END:STANDARD
END:VTIMEZONE
BEGIN:VEVENT
DTSTART;TZID=Europe/Berlin:20260520T180000
DTEND;TZID=Europe/Berlin:20260520T190000
DTSTAMP:20260419T195059
CREATED:20260314T110415Z
LAST-MODIFIED:20260324T103008Z
UID:8181-1779300000-1779303600@www.refo-moabit.de
SUMMARY:Kiezdinner
DESCRIPTION:Mittwochs in der Refo: Jede & jeder ist herzlich willkommen. Zeit für Gemeinschaft & Begegnung\, gutes Essen\, auftanken & zur Ruhe kommen. Kunst genießen oder sich über relevante Gesellschafts-\, Lebens- und Glaubensthemen austauschen. \n18 Uhr Kiez-Dinner von Mai bis September auf dem Wiclefplatz (bei Regen im Saal) \nWir stellen Brot\, Butter und Wasser. Du bringst mit\, was du essen magst. Wir teilen und essen gemeinsam. \n19 Uhr Atempause – Meditation nach Ignatius von Loyola \n20 Uhr After 8 – Performance\, Konzert\, Gespräch\, Lesung … Jede Woche gibt es abwechslungsreiches Programm.
URL:https://www.refo-moabit.de/termin/brotzeit-41/
LOCATION:REFO Campus\, Wiclefstr. 32\, Berlin\, 10551
CATEGORIES:Kiezdinner
ATTACH;FMTTYPE=image/jpeg:https://www.refo-moabit.de/wp-content/uploads/tischabendmahl_dieter.k_unsplash.jpg
END:VEVENT
BEGIN:VEVENT
DTSTART;TZID=Europe/Berlin:20260520T190000
DTEND;TZID=Europe/Berlin:20260520T193000
DTSTAMP:20260419T195059
CREATED:20251213T132748Z
LAST-MODIFIED:20260324T093708Z
UID:8598-1779303600-1779305400@www.refo-moabit.de
SUMMARY:Atempause - Meditation
DESCRIPTION:Die Atempause ist ein Tagesrückblick der anderen Art\, der dich zur Ruhe kommen lässt. Die angeleitete Meditation erfolgt nach dem Gebet der liebenden Aufmerksamkeit von Ignatius von Loyola. \n+++ \nSetz dich auf ein Gebetsbänkchen\, leg dich auf den beheizten Holzboden oder kuschel dich in einen Sessel und lass den Stress des Tages hinter dir. \nAußerdem singen wir gelegentlich Taizé-Lieder und feiern Abendmahl.
URL:https://www.refo-moabit.de/termin/meditation-11/
LOCATION:REFO Kirche\, Beusselstraße 35\, Berlin\, 10551\, Deutschland
CATEGORIES:Meditation
ATTACH;FMTTYPE=image/png:https://www.refo-moabit.de/wp-content/uploads/atempause_kapelle_burhard.oelmann.png
END:VEVENT
BEGIN:VEVENT
DTSTART;TZID=Europe/Berlin:20260520T200000
DTEND;TZID=Europe/Berlin:20260520T213000
DTSTAMP:20260419T195059
CREATED:20260123T145113Z
LAST-MODIFIED:20260219T082846Z
UID:8708-1779307200-1779312600@www.refo-moabit.de
SUMMARY:Finissage mit Performance "Leerstelle"
DESCRIPTION:Die Veranstaltung findet im Rahmen der Ausstellung „Augenblicke – von Leben und Sterben“ statt. \nIngo Reulecke\, Jens Reulecke\, Katharina Resch \nDie Performance bündelt die Augenblicke der gesamten Reihe: Texte\, Fotografien\, Klang\, Tanz und Rituale.\nBewegungen\, Klänge und Stille öffnen Räume für das Dazwischen – entlang der „Leerstelle“\, zwischen Begrenztheit und Weite unseres Lebens. \nWeitere Infos:\ningoreulecke.com/news\nvimeo.com/user1757689/videos \n 
URL:https://www.refo-moabit.de/termin/finissage-mit-performance/
CATEGORIES:brot+zeit
ATTACH;FMTTYPE=image/jpeg:https://www.refo-moabit.de/wp-content/uploads/augenblicke_white_wings_jens.reulecke.jpg
END:VEVENT
END:VCALENDAR