BEGIN:VCALENDAR
VERSION:2.0
PRODID:-//Refo Moabit - ECPv6.15.17.1//NONSGML v1.0//EN
CALSCALE:GREGORIAN
METHOD:PUBLISH
X-WR-CALNAME:Refo Moabit
X-ORIGINAL-URL:https://www.refo-moabit.de
X-WR-CALDESC:Veranstaltungen für Refo Moabit
REFRESH-INTERVAL;VALUE=DURATION:PT1H
X-Robots-Tag:noindex
X-PUBLISHED-TTL:PT1H
BEGIN:VTIMEZONE
TZID:Europe/Berlin
BEGIN:DAYLIGHT
TZOFFSETFROM:+0100
TZOFFSETTO:+0200
TZNAME:CEST
DTSTART:20240331T010000
END:DAYLIGHT
BEGIN:STANDARD
TZOFFSETFROM:+0200
TZOFFSETTO:+0100
TZNAME:CET
DTSTART:20241027T010000
END:STANDARD
BEGIN:DAYLIGHT
TZOFFSETFROM:+0100
TZOFFSETTO:+0200
TZNAME:CEST
DTSTART:20250330T010000
END:DAYLIGHT
BEGIN:STANDARD
TZOFFSETFROM:+0200
TZOFFSETTO:+0100
TZNAME:CET
DTSTART:20251026T010000
END:STANDARD
BEGIN:DAYLIGHT
TZOFFSETFROM:+0100
TZOFFSETTO:+0200
TZNAME:CEST
DTSTART:20260329T010000
END:DAYLIGHT
BEGIN:STANDARD
TZOFFSETFROM:+0200
TZOFFSETTO:+0100
TZNAME:CET
DTSTART:20261025T010000
END:STANDARD
END:VTIMEZONE
BEGIN:VEVENT
DTSTART;VALUE=DATE:20250901
DTEND;VALUE=DATE:20251101
DTSTAMP:20260419T235641
CREATED:20250512T090425Z
LAST-MODIFIED:20250814T101048Z
UID:8019-1756684800-1761955199@www.refo-moabit.de
SUMMARY:Tanzjahr 2025
DESCRIPTION:Im Tanzjahr 2025 bespielen wir den neuen Tanzboden im Kirchraum & laden ein zu Tanzereignissen und Workshops. \n  \n \n  \n 
URL:https://www.refo-moabit.de/termin/tanzjahr-2025/
LOCATION:REFO Kirche\, Beusselstraße 35\, Berlin\, 10551\, Deutschland
END:VEVENT
BEGIN:VEVENT
DTSTART;VALUE=DATE:20251008
DTEND;VALUE=DATE:20251027
DTSTAMP:20260419T235641
CREATED:20251013T111506Z
LAST-MODIFIED:20251013T111506Z
UID:8360-1759881600-1761523199@www.refo-moabit.de
SUMMARY:Peacebuilding | Komm den Frieden wecken | Friedensdekade+
DESCRIPTION:Anlässlich der Ökumenischen FriedensDekade vom 9-19.11. und deren Motto “Komm den Frieden wecken” veranstalten wir an der Refo von Oktober bis Ende November eine Peacebuilding Reihe und laden zu unterschiedlichen Veranstaltungen rund um Friedensthemen ein.
URL:https://www.refo-moabit.de/termin/peacebuilding-komm-den-frieden-wecken-friedensdekade/
LOCATION:REFO Campus\, Wiclefstr. 32\, Berlin\, 10551
END:VEVENT
BEGIN:VEVENT
DTSTART;TZID=Europe/Berlin:20251008T170000
DTEND;TZID=Europe/Berlin:20251008T190000
DTSTAMP:20260419T235641
CREATED:20250924T105754Z
LAST-MODIFIED:20250924T105754Z
UID:8295-1759942800-1759950000@www.refo-moabit.de
SUMMARY:"Mal reden" - Ich höre dir zu | Seelsorge
DESCRIPTION:Du möchtest einfach mal reden. Über Frust sprechen. Oder von deiner Angst. Mal Einsamkeit überwinden. Auch mal Müll abladen. Deeptalk.\nWir sind ein Team von Leuten\, die zuhören können. Eine oder einer ist für dich da und trifft sich mit dir zum Gespräch. In der Kirche oder auf einen Spaziergang. \nMittwochs zwischen 17 und 19 Uhr sitzt Eine oder Einer von uns am Kircheneingang Ecke Beusselstraße und Wiclefstraße und wartet auf dich:\nAnne\, Brigitte\, Friedgard\, Gabriele\, Helene\, Rudi\, Sebastian\, Stefanie
URL:https://www.refo-moabit.de/termin/mal-reden-ich-hoere-dir-zu-seelsorge-26/
LOCATION:REFO Kapelle\, Ecke Wiclefstraße 32 / Beusselstraße 35\, Berlin\, 10551
END:VEVENT
BEGIN:VEVENT
DTSTART;TZID=Europe/Berlin:20251008T190000
DTEND;TZID=Europe/Berlin:20251008T220000
DTSTAMP:20260419T235641
CREATED:20250924T111031Z
LAST-MODIFIED:20251002T111651Z
UID:8309-1759950000-1759960800@www.refo-moabit.de
SUMMARY:brot+zeit
DESCRIPTION:Anfang Oktober sind zwei Mitglieder der Combatants for Peace\, einer palästinensisch-israelischen Friedensbewegung\, zu Gast in Berlin. Sie berichten von der aktuellen Lage in der West Bank\, den Herausforderungen für zivilgesellschaftliche Friedens- und Menschenrechtsorganisationen und dem Umgang mit der Situation in Gaza. \nCombatants for Peace ist eine einzigartige Graswurzelbewegung von Israelis und Palästinenser*innen\, die gemeinsam daran arbeiten\, die Besatzung zu beenden und eine gerechte\, friedliche Zukunft auf der Grundlage von Gleichheit\, Freiheit und kollektiver Befreiung aufzubauen. Gegründet wurde Combatants for Peace im Jahr 2006 von ehemaligen israelischen Soldaten und palästinensischen Kämpfern\, die ihre Waffen niederlegten und beschlossen\, sich mit vereinten Kräften gewaltfrei der Besatzung zu widersetzen und eine bessere Zukunft für beide Nationen zu gestalten. Durch gemeinsamen zivilen Widerstand\, Bildung und kreative Formen des Aktivismus arbeitet Combatants for Peace daran\, Systeme der Unterdrückung zu überwinden und eine alternative Realität zu erschaffen\, die in Würde und Sicherheit für alle Menschen in Palästina und Israel wurzelt. Jedes Jahr organisiert Combatants for Peace international viel beachtete gemeinsame Gedenkzeremonien\, um aller Opfer des Konflikts – Palästinenser*innen und Israelis gleichermaßen – zu gedenken. Diese Zeremonien sind ein kraftvoller Ausdruck gemeinsamer Menschlichkeit und des Bekenntnisses zur Gewaltlosigkeit. \nSulaiman Khatib ist Mitgründer der Combatants for Peace und Leiter Internationale Beziehungen der Organisation. Er wurde 2017 und 2018 stellvertretend für die Organisation für den Friedensnobelpreis nominiert. Als lokaler Community-Organizer hat er sich durch sein Engagement für Frieden\, soziale Gerechtigkeit und Gleichberechtigung auch international einen Namen gemacht. Carly Rosenthal ist bei Combatants for Peace für Medienarbeit verantwortlich. Sie wuchs in einer jüdischen Community in Melbourne\, Australien\, auf und zog 2018 nach Palästina/Israel. Seit zehn Jahren engagiert sie sich in Friedensaktivismus und Konflikttransformation mit Palästinenser*innen und Israelis – unter anderem als Tourleiterin\, Community-Builderin und Content-Gestalterin. \nUm Anmeldung wird gebeten: http://www.propeace.de/de/veranstaltung/cfp-refo-moabit\nSprache: Englisch\nEintritt: frei \nEine Veranstaltung von Refo Moabit und Pro Peace \n 
URL:https://www.refo-moabit.de/termin/brotzeit-43/
LOCATION:REFO Kirche\, Beusselstraße 35\, Berlin\, 10551\, Deutschland
CATEGORIES:brot+zeit
END:VEVENT
BEGIN:VEVENT
DTSTART;TZID=Europe/Berlin:20251008T200000
DTEND;TZID=Europe/Berlin:20251008T220000
DTSTAMP:20260419T235641
CREATED:20250905T122906Z
LAST-MODIFIED:20251002T111552Z
UID:8210-1759953600-1759960800@www.refo-moabit.de
SUMMARY:Combatants for Peace - Gemeinsam gegen den Krieg Vortrag & Gespräch mit Suleiman Khatib & Carly Rosenthal aus Palästina/Israel
DESCRIPTION:  \nAnfang Oktober sind zwei Mitglieder der Combatants for Peace\, einer palästinensisch-israelischen Friedensbewegung\, zu Gast in Berlin. Sie berichten von der aktuellen Lage in der West Bank\, den Herausforderungen für zivilgesellschaftliche Friedens- und Menschenrechtsorganisationen und dem Umgang mit der Situation in Gaza. \nCombatants for Peace ist eine einzigartige Graswurzelbewegung von Israelis und Palästinenser*innen\, die gemeinsam daran arbeiten\, die Besatzung zu beenden und eine gerechte\, friedliche Zukunft auf der Grundlage von Gleichheit\, Freiheit und kollektiver Befreiung aufzubauen. Gegründet wurde Combatants for Peace im Jahr 2006 von ehemaligen israelischen Soldaten und palästinensischen Kämpfern\, die ihre Waffen niederlegten und beschlossen\, sich mit vereinten Kräften gewaltfrei der Besatzung zu widersetzen und eine bessere Zukunft für beide Nationen zu gestalten. Durch gemeinsamen zivilen Widerstand\, Bildung und kreative Formen des Aktivismus arbeitet Combatants for Peace daran\, Systeme der Unterdrückung zu überwinden und eine alternative Realität zu erschaffen\, die in Würde und Sicherheit für alle Menschen in Palästina und Israel wurzelt. Jedes Jahr organisiert Combatants for Peace international viel beachtete gemeinsame Gedenkzeremonien\, um aller Opfer des Konflikts – Palästinenser*innen und Israelis gleichermaßen – zu gedenken. Diese Zeremonien sind ein kraftvoller Ausdruck gemeinsamer Menschlichkeit und des Bekenntnisses zur Gewaltlosigkeit. \nSulaiman Khatib ist Mitgründer der Combatants for Peace und Leiter Internationale Beziehungen der Organisation. Er wurde 2017 und 2018 stellvertretend für die Organisation für den Friedensnobelpreis nominiert. Als lokaler Community-Organizer hat er sich durch sein Engagement für Frieden\, soziale Gerechtigkeit und Gleichberechtigung auch international einen Namen gemacht. Carly Rosenthal ist bei Combatants for Peace für Medienarbeit verantwortlich. Sie wuchs in einer jüdischen Community in Melbourne\, Australien\, auf und zog 2018 nach Palästina/Israel. Seit zehn Jahren engagiert sie sich in Friedensaktivismus und Konflikttransformation mit Palästinenser*innen und Israelis – unter anderem als Tourleiterin\, Community-Builderin und Content-Gestalterin. \nUm Anmeldung wird gebeten: http://www.propeace.de/de/veranstaltung/cfp-refo-moabit\nSprache: Englisch\nEintritt: frei \nEine Veranstaltung von Refo Moabit und Pro Peace \n 
URL:https://www.refo-moabit.de/termin/combatants-for-peace-gemeinsam-gegen-den-krieg-vortrag-gespraech-mit-suleiman-khatib-carly-rosenthal-aus-palaestina-israel/
LOCATION:REFO Kirche\, Beusselstraße 35\, Berlin\, 10551\, Deutschland
END:VEVENT
END:VCALENDAR