BEGIN:VCALENDAR
VERSION:2.0
PRODID:-//Refo Moabit - ECPv6.15.17.1//NONSGML v1.0//EN
CALSCALE:GREGORIAN
METHOD:PUBLISH
X-WR-CALNAME:Refo Moabit
X-ORIGINAL-URL:https://www.refo-moabit.de
X-WR-CALDESC:Veranstaltungen für Refo Moabit
REFRESH-INTERVAL;VALUE=DURATION:PT1H
X-Robots-Tag:noindex
X-PUBLISHED-TTL:PT1H
BEGIN:VTIMEZONE
TZID:Europe/Berlin
BEGIN:DAYLIGHT
TZOFFSETFROM:+0100
TZOFFSETTO:+0200
TZNAME:CEST
DTSTART:20240331T010000
END:DAYLIGHT
BEGIN:STANDARD
TZOFFSETFROM:+0200
TZOFFSETTO:+0100
TZNAME:CET
DTSTART:20241027T010000
END:STANDARD
BEGIN:DAYLIGHT
TZOFFSETFROM:+0100
TZOFFSETTO:+0200
TZNAME:CEST
DTSTART:20250330T010000
END:DAYLIGHT
BEGIN:STANDARD
TZOFFSETFROM:+0200
TZOFFSETTO:+0100
TZNAME:CET
DTSTART:20251026T010000
END:STANDARD
BEGIN:DAYLIGHT
TZOFFSETFROM:+0100
TZOFFSETTO:+0200
TZNAME:CEST
DTSTART:20260329T010000
END:DAYLIGHT
BEGIN:STANDARD
TZOFFSETFROM:+0200
TZOFFSETTO:+0100
TZNAME:CET
DTSTART:20261025T010000
END:STANDARD
END:VTIMEZONE
BEGIN:VEVENT
DTSTART;TZID=Europe/Berlin:20250720T170000
DTEND;TZID=Europe/Berlin:20250720T183000
DTSTAMP:20260421T143545
CREATED:20250519T095246Z
LAST-MODIFIED:20250714T142741Z
UID:8102-1753030800-1753036200@www.refo-moabit.de
SUMMARY:Open-Air Gottesdienst
DESCRIPTION:„Es gibt kein richtiges Leben im Falschen!“ sagte ein bekannter Philosoph einmal.  \nUnd er scheint Recht zu haben. Wenn das große Ganze schief/falsch/dumm/schräg ist\, können wir kleinen Menschen es nicht ändern\, sondern müssen uns damit abfinden! – ODER? \nHerzliche Einladung zum Gottesdienst am 20.07. in der REFO.  \nWir erkunden gemeinsam die Jesus-Utopie und fragen nach dem Wunder hinter dem Wort abstrakten Wort „Auferstehung“. \n 
URL:https://www.refo-moabit.de/termin/open-air-gottesdienst/
LOCATION:REFO Campus\, Wiclefstr. 32\, Berlin\, 10551
CATEGORIES:Gottesdienst
END:VEVENT
END:VCALENDAR