BEGIN:VCALENDAR
VERSION:2.0
PRODID:-//Refo Moabit - ECPv6.15.17.1//NONSGML v1.0//EN
CALSCALE:GREGORIAN
METHOD:PUBLISH
X-WR-CALNAME:Refo Moabit
X-ORIGINAL-URL:https://www.refo-moabit.de
X-WR-CALDESC:Veranstaltungen für Refo Moabit
REFRESH-INTERVAL;VALUE=DURATION:PT1H
X-Robots-Tag:noindex
X-PUBLISHED-TTL:PT1H
BEGIN:VTIMEZONE
TZID:Europe/Berlin
BEGIN:DAYLIGHT
TZOFFSETFROM:+0100
TZOFFSETTO:+0200
TZNAME:CEST
DTSTART:20240331T010000
END:DAYLIGHT
BEGIN:STANDARD
TZOFFSETFROM:+0200
TZOFFSETTO:+0100
TZNAME:CET
DTSTART:20241027T010000
END:STANDARD
BEGIN:DAYLIGHT
TZOFFSETFROM:+0100
TZOFFSETTO:+0200
TZNAME:CEST
DTSTART:20250330T010000
END:DAYLIGHT
BEGIN:STANDARD
TZOFFSETFROM:+0200
TZOFFSETTO:+0100
TZNAME:CET
DTSTART:20251026T010000
END:STANDARD
BEGIN:DAYLIGHT
TZOFFSETFROM:+0100
TZOFFSETTO:+0200
TZNAME:CEST
DTSTART:20260329T010000
END:DAYLIGHT
BEGIN:STANDARD
TZOFFSETFROM:+0200
TZOFFSETTO:+0100
TZNAME:CET
DTSTART:20261025T010000
END:STANDARD
END:VTIMEZONE
BEGIN:VEVENT
DTSTART;TZID=Europe/Berlin:20250708T190000
DTEND;TZID=Europe/Berlin:20250708T203000
DTSTAMP:20260421T143546
CREATED:20250707T105819Z
LAST-MODIFIED:20250707T105819Z
UID:8141-1752001200-1752006600@www.refo-moabit.de
SUMMARY:Lebend leben | Bewegungskurs
DESCRIPTION:Was macht Dich lebendig?\nVier Abende. Vier Einheiten. Viele Aha-Momente. \nIn diesem Kurs geht es um Dich – darum\, wie Du Dich im Alltag erlebst\, wie Du mit Deinem Körper umgehst und wie Du Dir selbst begegnest. \nBist Du im Moment eher im Funktionsmodus? Oder erlebst Du Dein Leben mit Leichtigkeit und Freude? Wie nimmst Du Deinen Körper wahr – und wie gehst Du mit Anspannung oder Schmerz um? \nLebendig zu sein heißt\, in Kontakt mit dem zu kommen\, was gerade da ist – auch mit dem\, was vielleicht unangenehm ist. Statt Widerstände zu verdrängen\, wollen wir sie annehmen und neue Erfahrungen ermöglichen. \nDu bist eingeladen\, Dich selbst bewusster wahrzunehmen\, Deinen Körper zu spüren und Dich in Bew egung zu bringen – spielerisch\, leicht und echt. \nWenn Du Lust hast\, neue Impulse für mehr Lebendigkeit zu bekommen\, komm gern dazu!  \nKursleitung: Carolina Martinez-Luther | https://www.lebenslernfreude.de/\nAnmeldung: mail@lebenslernfreude.de\nWo: Reformationskirche\, Beusselstraße 35\, 10553 Berlin\nBeitrag auf Spendenbasis: 5–10 Euro\nWeitere Termine: 08.07. & 15.07.
URL:https://www.refo-moabit.de/termin/lebend-leben-bewegungskurs/
LOCATION:REFO Kirche\, Beusselstraße 35\, Berlin\, 10551\, Deutschland
END:VEVENT
END:VCALENDAR