BEGIN:VCALENDAR
VERSION:2.0
PRODID:-//Refo Moabit - ECPv6.15.17.1//NONSGML v1.0//EN
CALSCALE:GREGORIAN
METHOD:PUBLISH
X-WR-CALNAME:Refo Moabit
X-ORIGINAL-URL:https://www.refo-moabit.de
X-WR-CALDESC:Veranstaltungen für Refo Moabit
REFRESH-INTERVAL;VALUE=DURATION:PT1H
X-Robots-Tag:noindex
X-PUBLISHED-TTL:PT1H
BEGIN:VTIMEZONE
TZID:Europe/Berlin
BEGIN:DAYLIGHT
TZOFFSETFROM:+0100
TZOFFSETTO:+0200
TZNAME:CEST
DTSTART:20240331T010000
END:DAYLIGHT
BEGIN:STANDARD
TZOFFSETFROM:+0200
TZOFFSETTO:+0100
TZNAME:CET
DTSTART:20241027T010000
END:STANDARD
BEGIN:DAYLIGHT
TZOFFSETFROM:+0100
TZOFFSETTO:+0200
TZNAME:CEST
DTSTART:20250330T010000
END:DAYLIGHT
BEGIN:STANDARD
TZOFFSETFROM:+0200
TZOFFSETTO:+0100
TZNAME:CET
DTSTART:20251026T010000
END:STANDARD
BEGIN:DAYLIGHT
TZOFFSETFROM:+0100
TZOFFSETTO:+0200
TZNAME:CEST
DTSTART:20260329T010000
END:DAYLIGHT
BEGIN:STANDARD
TZOFFSETFROM:+0200
TZOFFSETTO:+0100
TZNAME:CET
DTSTART:20261025T010000
END:STANDARD
END:VTIMEZONE
BEGIN:VEVENT
DTSTART;TZID=Europe/Berlin:20250507T160000
DTEND;TZID=Europe/Berlin:20250507T233000
DTSTAMP:20260421T173306
CREATED:20250430T113941Z
LAST-MODIFIED:20250430T114126Z
UID:8005-1746633600-1746660600@www.refo-moabit.de
SUMMARY:Friedensfest statt kriegstüchtig | Demo auf der Beusselstraße
DESCRIPTION:Demo-Aufruf \nWir feiern 80 Jahre Kriegsende und fragen: Wie werden wir friedensfest statt kriegstüchtig? \nAuch 80 Jahre nach Kriegsende ist unsere Gesellschaft weit entfernt von gerechtem Frieden. In der Durchsetzung unserer Wirtschafts- und Sicherheitsinteressen befeuern wir Kriege und Krisen und auch in unserem Alltag sind Konkurrenz und Ausschluss präsent. \nDeshalb wollen wir als Moabiter Nachbarschaft ein gemeinsames Zeichen für den Frieden setzen! \nMit einem Friedensfestessen auf der Beusselstraße feiern wir den Frieden\, der alle meint und Nachbarn und Gäste\, jung & alt\, Verlierer und Überflieger\, Friedensstifter*inne & Kratzbürsten\, Verwandte und Freund*innen einlädt. \nfeiert mit uns friedensfest \n \n  \n16:00 | In mehreren Küchen verwandeln wir Lebensmittelspenden in Beiträgen für das Demo-Buffet. Wir freuen uns über viele flinke Hände\, die mit schnippeln. Für die Kinder gibt es ein buntes Programm auf dem Wiclefplatz. \n18:00 | Wir bauen ein Buffet auf der Beusselstraße auf. Zum Friedensfestessen gibt es widerständige Musik und inspirierende Impulse. Bringt Transparente\, Teller & Picknickdecken mit! \n20:00 | In der Kirche geht’s weiter mit Spoken Word\, Konzerten\, Texten und Geschichte(n) zu Krieg & Frieden\, bevor wir dann mit DJ Body Electric in 80 Jahre Kriegsende reinfeiern. \n00:00 | Um Mitternacht laden wir ein zu einer Schweigeminute. Die Peacechapel ist künstlerisch gestaltet als Raum für Stille.
URL:https://www.refo-moabit.de/termin/friedensfest-statt-kriegstuechtig/
LOCATION:REFO Campus\, Wiclefstr. 32\, Berlin\, 10551
END:VEVENT
END:VCALENDAR