BEGIN:VCALENDAR
VERSION:2.0
PRODID:-//Refo Moabit - ECPv6.15.17.1//NONSGML v1.0//EN
CALSCALE:GREGORIAN
METHOD:PUBLISH
X-WR-CALNAME:Refo Moabit
X-ORIGINAL-URL:https://www.refo-moabit.de
X-WR-CALDESC:Veranstaltungen für Refo Moabit
REFRESH-INTERVAL;VALUE=DURATION:PT1H
X-Robots-Tag:noindex
X-PUBLISHED-TTL:PT1H
BEGIN:VTIMEZONE
TZID:Europe/Berlin
BEGIN:DAYLIGHT
TZOFFSETFROM:+0100
TZOFFSETTO:+0200
TZNAME:CEST
DTSTART:20240331T010000
END:DAYLIGHT
BEGIN:STANDARD
TZOFFSETFROM:+0200
TZOFFSETTO:+0100
TZNAME:CET
DTSTART:20241027T010000
END:STANDARD
BEGIN:DAYLIGHT
TZOFFSETFROM:+0100
TZOFFSETTO:+0200
TZNAME:CEST
DTSTART:20250330T010000
END:DAYLIGHT
BEGIN:STANDARD
TZOFFSETFROM:+0200
TZOFFSETTO:+0100
TZNAME:CET
DTSTART:20251026T010000
END:STANDARD
BEGIN:DAYLIGHT
TZOFFSETFROM:+0100
TZOFFSETTO:+0200
TZNAME:CEST
DTSTART:20260329T010000
END:DAYLIGHT
BEGIN:STANDARD
TZOFFSETFROM:+0200
TZOFFSETTO:+0100
TZNAME:CET
DTSTART:20261025T010000
END:STANDARD
END:VTIMEZONE
BEGIN:VEVENT
DTSTART;VALUE=DATE:20250305
DTEND;VALUE=DATE:20250421
DTSTAMP:20260421T201515
CREATED:20250307T094142Z
LAST-MODIFIED:20250307T094247Z
UID:7803-1741132800-1745193599@www.refo-moabit.de
SUMMARY:7 Wochen für die Demokratie | Veranstaltungsreihe vom Resilienz Zentrum Moabit
DESCRIPTION:Wir laden ein zu 7 WOCHEN FÜR DIE DEMOKRATIE mit Lesungen\, Workshops & Talks – ab 12.03.25 immer mittwochs um 8 im Rahmen von After8 Kooperation mit dem Resilienzzentrum Moabit. Außerdem finden besondere Gottesdiensten bis Ostern statt.
URL:https://www.refo-moabit.de/termin/7-wochen-fuer-die-demokratie-veranstaltungsreihe-vom-resilienz-zentrum-moabit/
LOCATION:REFO Campus\, Wiclefstr. 32\, Berlin\, 10551
END:VEVENT
BEGIN:VEVENT
DTSTART;TZID=Europe/Berlin:20250330T103000
DTEND;TZID=Europe/Berlin:20250330T163000
DTSTAMP:20260421T201515
CREATED:20250317T105320Z
LAST-MODIFIED:20250317T105320Z
UID:7848-1743330600-1743352200@www.refo-moabit.de
SUMMARY:Diversity Workshop | Input & Theaterworkshop mit Tshiamo Peterson | 7 Wochen für die Demokratie
DESCRIPTION:Tshiamo Peterson ist Trainerin bei Gewaltfrei Handeln e.V.  \nAls Gruppen auf dem Refo-Campus nähern wir uns gemeinsam spielerisch dem Thema Diversität an.  \n10:30 Uhr bis 12:30 Uhr Brunch Dialog ‘Gemeinschaft’  \nein gemeinsames Essen um die Gemeinschaft zu genießen\, und mit Übungen aus der Gewaltfreier Kommunikation in den Austausch zu kommen.  \n12:35 bis 13:30 Plenum zum Thema ‘Vielfalt’\, ein Blick auf die Vielfalt der Gemeinschaft werfen und gemeinsam Wege zu finden\, diese zu fördern.  \n14:30 Uhr bis 16:30 Ein Playback Theater Workshop\, wo einzelne Geschichten aus der Gemeinschaft geteilt und gespielt werde\, wir feiern das ‘ich’ das die Gemeinschaft zum ‘wir’ macht. \nAnmeldung: info@refo-moabit.de
URL:https://www.refo-moabit.de/termin/diversity-workshop-input-theaterworkshop-mit-tshiamo-peterson-7-wochen-fuer-die-demokratie/
LOCATION:REFO Campus\, Wiclefstr. 32\, Berlin\, 10551
END:VEVENT
END:VCALENDAR